BEGIN:VCALENDAR
VERSION:2.0
PRODID:-//St Monica&#039;s, Palmers Green - ECPv6.15.8//NONSGML v1.0//EN
CALSCALE:GREGORIAN
METHOD:PUBLISH
X-WR-CALNAME:St Monica&#039;s, Palmers Green
X-ORIGINAL-URL:https://stmonica.co.uk
X-WR-CALDESC:Events for St Monica&#039;s, Palmers Green
REFRESH-INTERVAL;VALUE=DURATION:PT1H
X-Robots-Tag:noindex
X-PUBLISHED-TTL:PT1H
BEGIN:VTIMEZONE
TZID:Europe/London
BEGIN:DAYLIGHT
TZOFFSETFROM:+0000
TZOFFSETTO:+0100
TZNAME:BST
DTSTART:20240331T010000
END:DAYLIGHT
BEGIN:STANDARD
TZOFFSETFROM:+0100
TZOFFSETTO:+0000
TZNAME:GMT
DTSTART:20241027T010000
END:STANDARD
BEGIN:DAYLIGHT
TZOFFSETFROM:+0000
TZOFFSETTO:+0100
TZNAME:BST
DTSTART:20250330T010000
END:DAYLIGHT
BEGIN:STANDARD
TZOFFSETFROM:+0100
TZOFFSETTO:+0000
TZNAME:GMT
DTSTART:20251026T010000
END:STANDARD
BEGIN:DAYLIGHT
TZOFFSETFROM:+0000
TZOFFSETTO:+0100
TZNAME:BST
DTSTART:20260329T010000
END:DAYLIGHT
BEGIN:STANDARD
TZOFFSETFROM:+0100
TZOFFSETTO:+0000
TZNAME:GMT
DTSTART:20261025T010000
END:STANDARD
BEGIN:DAYLIGHT
TZOFFSETFROM:+0000
TZOFFSETTO:+0100
TZNAME:BST
DTSTART:20270328T010000
END:DAYLIGHT
BEGIN:STANDARD
TZOFFSETFROM:+0100
TZOFFSETTO:+0000
TZNAME:GMT
DTSTART:20271031T010000
END:STANDARD
END:VTIMEZONE
BEGIN:VEVENT
DTSTART;TZID=Europe/London:20260419T160000
DTEND;TZID=Europe/London:20260419T170000
DTSTAMP:20260425T172503
CREATED:20241117T080404Z
LAST-MODIFIED:20250222T163109Z
UID:10000037-1776614400-1776618000@stmonica.co.uk
SUMMARY:Parish Community Tea
DESCRIPTION:Originally\, set up as a CARITAS initiative called ‘Contact the elderly’ in the parish. \nOn the third Sunday of Each month Tea is served in the Newman Room with sandwiches and cake for members of the parish to socialise. \nSpeak with Sister Joyce if you wish to attend.
URL:https://stmonica.co.uk/event/caritas-community-tea/2026-04-19/
LOCATION:Newman Room\, 1 Stonard Road\, Palmers Green\, London\, N13 4DJ\, United Kingdom
CATEGORIES:Outreach,Social
END:VEVENT
BEGIN:VEVENT
DTSTART;TZID=Europe/London:20260315T160000
DTEND;TZID=Europe/London:20260315T170000
DTSTAMP:20260425T172503
CREATED:20241117T080404Z
LAST-MODIFIED:20250222T163109Z
UID:10000036-1773590400-1773594000@stmonica.co.uk
SUMMARY:Parish Community Tea
DESCRIPTION:Originally\, set up as a CARITAS initiative called ‘Contact the elderly’ in the parish. \nOn the third Sunday of Each month Tea is served in the Newman Room with sandwiches and cake for members of the parish to socialise. \nSpeak with Sister Joyce if you wish to attend.
URL:https://stmonica.co.uk/event/caritas-community-tea/2026-03-15/
LOCATION:Newman Room\, 1 Stonard Road\, Palmers Green\, London\, N13 4DJ\, United Kingdom
CATEGORIES:Outreach,Social
END:VEVENT
BEGIN:VEVENT
DTSTART;TZID=Europe/London:20260215T160000
DTEND;TZID=Europe/London:20260215T170000
DTSTAMP:20260425T172503
CREATED:20241117T080404Z
LAST-MODIFIED:20250222T163109Z
UID:10000035-1771171200-1771174800@stmonica.co.uk
SUMMARY:Parish Community Tea
DESCRIPTION:Originally\, set up as a CARITAS initiative called ‘Contact the elderly’ in the parish. \nOn the third Sunday of Each month Tea is served in the Newman Room with sandwiches and cake for members of the parish to socialise. \nSpeak with Sister Joyce if you wish to attend.
URL:https://stmonica.co.uk/event/caritas-community-tea/2026-02-15/
LOCATION:Newman Room\, 1 Stonard Road\, Palmers Green\, London\, N13 4DJ\, United Kingdom
CATEGORIES:Outreach,Social
END:VEVENT
BEGIN:VEVENT
DTSTART;TZID=Europe/London:20260118T160000
DTEND;TZID=Europe/London:20260118T170000
DTSTAMP:20260425T172503
CREATED:20241117T080404Z
LAST-MODIFIED:20250222T163109Z
UID:10000034-1768752000-1768755600@stmonica.co.uk
SUMMARY:Parish Community Tea
DESCRIPTION:Originally\, set up as a CARITAS initiative called ‘Contact the elderly’ in the parish. \nOn the third Sunday of Each month Tea is served in the Newman Room with sandwiches and cake for members of the parish to socialise. \nSpeak with Sister Joyce if you wish to attend.
URL:https://stmonica.co.uk/event/caritas-community-tea/2026-01-18/
LOCATION:Newman Room\, 1 Stonard Road\, Palmers Green\, London\, N13 4DJ\, United Kingdom
CATEGORIES:Outreach,Social
END:VEVENT
BEGIN:VEVENT
DTSTART;TZID=Europe/London:20251225T000000
DTEND;TZID=Europe/London:20251225T235959
DTSTAMP:20260425T172503
CREATED:20241122T122559Z
LAST-MODIFIED:20250222T130100Z
UID:10000097-1766620800-1766707199@stmonica.co.uk
SUMMARY:+ THE NATIVITY OF THE LORD: Christmas Day
DESCRIPTION:Mass will be celebrated: \n7:45am ‘Mass at Dawn‘ \n9:00am ‘Mass during the Day’ with hymns \n10.30am Mass for Families with young children (with music) \n12.00 noon Mass during the Day (Sung) \n  \nChurch will close after the 12noon Mass. Please see Advent and Christmas 2024 pdf for other services during Chirstmas tide.
URL:https://stmonica.co.uk/event/the-nativity-of-the-lord-christmas-day/2025-12-25/
CATEGORIES:Christmas,Liturgical,Mass
END:VEVENT
BEGIN:VEVENT
DTSTART;TZID=Europe/London:20251221T160000
DTEND;TZID=Europe/London:20251221T170000
DTSTAMP:20260425T172503
CREATED:20241117T080404Z
LAST-MODIFIED:20250222T163109Z
UID:10000033-1766332800-1766336400@stmonica.co.uk
SUMMARY:Parish Community Tea
DESCRIPTION:Originally\, set up as a CARITAS initiative called ‘Contact the elderly’ in the parish. \nOn the third Sunday of Each month Tea is served in the Newman Room with sandwiches and cake for members of the parish to socialise. \nSpeak with Sister Joyce if you wish to attend.
URL:https://stmonica.co.uk/event/caritas-community-tea/2025-12-21/
LOCATION:Newman Room\, 1 Stonard Road\, Palmers Green\, London\, N13 4DJ\, United Kingdom
CATEGORIES:Outreach,Social
END:VEVENT
BEGIN:VEVENT
DTSTART;TZID=Europe/London:20251116T160000
DTEND;TZID=Europe/London:20251116T170000
DTSTAMP:20260425T172503
CREATED:20241117T080404Z
LAST-MODIFIED:20250222T163109Z
UID:10000032-1763308800-1763312400@stmonica.co.uk
SUMMARY:Parish Community Tea
DESCRIPTION:Originally\, set up as a CARITAS initiative called ‘Contact the elderly’ in the parish. \nOn the third Sunday of Each month Tea is served in the Newman Room with sandwiches and cake for members of the parish to socialise. \nSpeak with Sister Joyce if you wish to attend.
URL:https://stmonica.co.uk/event/caritas-community-tea/2025-11-16/
LOCATION:Newman Room\, 1 Stonard Road\, Palmers Green\, London\, N13 4DJ\, United Kingdom
CATEGORIES:Outreach,Social
END:VEVENT
BEGIN:VEVENT
DTSTART;TZID=Europe/London:20251102T000000
DTEND;TZID=Europe/London:20251102T235959
DTSTAMP:20260425T172503
CREATED:20241030T211125Z
LAST-MODIFIED:20241030T211143Z
UID:10000015-1762041600-1762127999@stmonica.co.uk
SUMMARY:All Saints
DESCRIPTION:Solemnity and Holy Day of Obligation. \nSacrifice of the Mass will be offered at: \n7:45 am \n9:00 am \n10:30 am \n12:00 noon
URL:https://stmonica.co.uk/event/all-saints/
LOCATION:St Monica’s Church\, Palmers Green\, 1 Stonard Road\, London\, N13 4DJ\, United Kingdom
ORGANIZER;CN="Parish Office":MAILTO:palmersgreen@rcdow.org.uk
END:VEVENT
BEGIN:VEVENT
DTSTART;TZID=Europe/London:20251019T160000
DTEND;TZID=Europe/London:20251019T170000
DTSTAMP:20260425T172503
CREATED:20241117T080404Z
LAST-MODIFIED:20250222T163109Z
UID:10000031-1760889600-1760893200@stmonica.co.uk
SUMMARY:Parish Community Tea
DESCRIPTION:Originally\, set up as a CARITAS initiative called ‘Contact the elderly’ in the parish. \nOn the third Sunday of Each month Tea is served in the Newman Room with sandwiches and cake for members of the parish to socialise. \nSpeak with Sister Joyce if you wish to attend.
URL:https://stmonica.co.uk/event/caritas-community-tea/2025-10-19/
LOCATION:Newman Room\, 1 Stonard Road\, Palmers Green\, London\, N13 4DJ\, United Kingdom
CATEGORIES:Outreach,Social
END:VEVENT
BEGIN:VEVENT
DTSTART;TZID=Europe/London:20251011T000000
DTEND;TZID=Europe/London:20251011T235959
DTSTAMP:20260425T172503
CREATED:20241126T162734Z
LAST-MODIFIED:20241126T162734Z
UID:10000104-1760140800-1760227199@stmonica.co.uk
SUMMARY:Jubilee Year - Day for Catechists
DESCRIPTION:Save the Date!! \nThe official Jubilee of Catechists in Rome is 26th-28th\nSeptember in 2025. The Agency are arranging Jubilee\nDays for Catechists in each Pastoral Area of the Diocese\nwith the Bishop for that area (details to follow): \n11th October 2025: Bishop John – Northern Area;
URL:https://stmonica.co.uk/event/jubilee-year-day-for-catechists/
CATEGORIES:Catechetics,Jubilee 2025
END:VEVENT
BEGIN:VEVENT
DTSTART;TZID=Europe/London:20250921T160000
DTEND;TZID=Europe/London:20250921T170000
DTSTAMP:20260425T172503
CREATED:20241117T080404Z
LAST-MODIFIED:20250222T163109Z
UID:10000030-1758470400-1758474000@stmonica.co.uk
SUMMARY:Parish Community Tea
DESCRIPTION:Originally\, set up as a CARITAS initiative called ‘Contact the elderly’ in the parish. \nOn the third Sunday of Each month Tea is served in the Newman Room with sandwiches and cake for members of the parish to socialise. \nSpeak with Sister Joyce if you wish to attend.
URL:https://stmonica.co.uk/event/caritas-community-tea/2025-09-21/
LOCATION:Newman Room\, 1 Stonard Road\, Palmers Green\, London\, N13 4DJ\, United Kingdom
CATEGORIES:Outreach,Social
END:VEVENT
BEGIN:VEVENT
DTSTART;TZID=Europe/London:20250817T160000
DTEND;TZID=Europe/London:20250817T170000
DTSTAMP:20260425T172503
CREATED:20241117T080404Z
LAST-MODIFIED:20250222T163109Z
UID:10000029-1755446400-1755450000@stmonica.co.uk
SUMMARY:Parish Community Tea
DESCRIPTION:Originally\, set up as a CARITAS initiative called ‘Contact the elderly’ in the parish. \nOn the third Sunday of Each month Tea is served in the Newman Room with sandwiches and cake for members of the parish to socialise. \nSpeak with Sister Joyce if you wish to attend.
URL:https://stmonica.co.uk/event/caritas-community-tea/2025-08-17/
LOCATION:Newman Room\, 1 Stonard Road\, Palmers Green\, London\, N13 4DJ\, United Kingdom
CATEGORIES:Outreach,Social
END:VEVENT
BEGIN:VEVENT
DTSTART;TZID=Europe/London:20250815T000000
DTEND;TZID=Europe/London:20250815T235959
DTSTAMP:20260425T172503
CREATED:20241030T210943Z
LAST-MODIFIED:20241030T210943Z
UID:10000014-1755216000-1755302399@stmonica.co.uk
SUMMARY:Assumption of the Blessed Virgin Mary
DESCRIPTION:Solemnity and Holy Day of Obligation. \nSacrifice of the Mass will be celebrated at: \n7:00am \n9:30am \n7:30pm
URL:https://stmonica.co.uk/event/assumption-of-the-blessed-virgin-mary/
LOCATION:St Monica’s Church\, Palmers Green\, 1 Stonard Road\, London\, N13 4DJ\, United Kingdom
CATEGORIES:Mass
END:VEVENT
BEGIN:VEVENT
DTSTART;TZID=Europe/London:20250725T000000
DTEND;TZID=Europe/London:20250801T235959
DTSTAMP:20260425T172503
CREATED:20241130T001255Z
LAST-MODIFIED:20241130T001255Z
UID:10000108-1753401600-1754092799@stmonica.co.uk
SUMMARY:Lourdes 2025
DESCRIPTION:The annual Diocesan Pilgrimage to Lourdes\, France takes place 25th July to 1st August 2025. \nTravel details\, etc. are being finalised\, but if you are interest in going for the Jubilee Year please contact Anna or the parish office. \nIf you are 16-20 years old\, you could help as a Redcap.
URL:https://stmonica.co.uk/event/lourdes-2025/
LOCATION:Lourdes\, France\, Lourdes\, France
CATEGORIES:Lourdes,Pilgrimage
ORGANIZER;CN="Anna McMullen":MAILTO:annamcmullen@rcdow.org.uk
END:VEVENT
BEGIN:VEVENT
DTSTART;TZID=Europe/London:20250720T160000
DTEND;TZID=Europe/London:20250720T170000
DTSTAMP:20260425T172503
CREATED:20241117T080404Z
LAST-MODIFIED:20250222T163109Z
UID:10000028-1753027200-1753030800@stmonica.co.uk
SUMMARY:Parish Community Tea
DESCRIPTION:Originally\, set up as a CARITAS initiative called ‘Contact the elderly’ in the parish. \nOn the third Sunday of Each month Tea is served in the Newman Room with sandwiches and cake for members of the parish to socialise. \nSpeak with Sister Joyce if you wish to attend.
URL:https://stmonica.co.uk/event/caritas-community-tea/2025-07-20/
LOCATION:Newman Room\, 1 Stonard Road\, Palmers Green\, London\, N13 4DJ\, United Kingdom
CATEGORIES:Outreach,Social
END:VEVENT
BEGIN:VEVENT
DTSTART;TZID=Europe/London:20250719T150000
DTEND;TZID=Europe/London:20250719T170000
DTSTAMP:20260425T172503
CREATED:20241205T101542Z
LAST-MODIFIED:20241205T101542Z
UID:10000117-1752937200-1752944400@stmonica.co.uk
SUMMARY:CARITAS - St Joseph's Saturday Club
DESCRIPTION:Monthly outreach meeting on 3rd Saturday of each month providing an inclusive space for people with Intellectual disabilities\, their families and friends. All welcome. \n 
URL:https://stmonica.co.uk/event/caritas-st-josephs-saturday-club-2/2025-07-19/
LOCATION:Newman Room\, 1 Stonard Road\, Palmers Green\, London\, N13 4DJ\, United Kingdom
CATEGORIES:Outreach
ORGANIZER;CN="Parish Office":MAILTO:palmersgreen@rcdow.org.uk
END:VEVENT
BEGIN:VEVENT
DTSTART;TZID=Europe/London:20250629T113000
DTEND;TZID=Europe/London:20250629T130000
DTSTAMP:20260425T172503
CREATED:20241122T120800Z
LAST-MODIFIED:20241122T121015Z
UID:10000094-1751196600-1751202000@stmonica.co.uk
SUMMARY:Young Adults (18-35) - Live life to the full
DESCRIPTION:Meeting up after the 10:30am Mass (Newman Room). \nThis last Sunday of the Month meeting for Young Adults 18-35\, explore how to live life to the full as a disciple of Christ through community\, social action\, friendship\, reflection and the Holy Spirit. \nThere will be refreshments in the Large Hall.  So please come and join us.
URL:https://stmonica.co.uk/event/young-adults-18-35-live-life-to-the-full/2025-06-29/
LOCATION:Newman Room\, 1 Stonard Road\, Palmers Green\, London\, N13 4DJ\, United Kingdom
CATEGORIES:Catechetics
ORGANIZER;CN="Anna McMullen":MAILTO:annamcmullen@rcdow.org.uk
END:VEVENT
BEGIN:VEVENT
DTSTART;TZID=Europe/London:20250629T000000
DTEND;TZID=Europe/London:20250629T235959
DTSTAMP:20260425T172503
CREATED:20241030T210706Z
LAST-MODIFIED:20241205T213928Z
UID:10000013-1751155200-1751241599@stmonica.co.uk
SUMMARY:Ss Peter and Paul
DESCRIPTION:Solemnity and Holy Day of Obligation. \nSacrifice of the Mass will be offered at: \n7:45 am \n9:00 am \n10:30 am \n12:00 noon
URL:https://stmonica.co.uk/event/ss-peter-and-paul/
CATEGORIES:Liturgical,Mass
END:VEVENT
BEGIN:VEVENT
DTSTART;TZID=Europe/London:20250622T000000
DTEND;TZID=Europe/London:20250622T235959
DTSTAMP:20260425T172503
CREATED:20241030T210432Z
LAST-MODIFIED:20241030T210432Z
UID:10000012-1750550400-1750636799@stmonica.co.uk
SUMMARY:The Body and Blood of Christ (Corpus Christi)
DESCRIPTION:Solemnity – Holy Day of Obligation. \nThe Sacrifice of the Mass will be offered at: \n7:45am \n9:00am \n10:30am \n12:00noon
URL:https://stmonica.co.uk/event/the-body-and-blood-of-christ-corpus-christi/
LOCATION:St Monica’s Church\, Palmers Green\, 1 Stonard Road\, London\, N13 4DJ\, United Kingdom
CATEGORIES:Mass
ORGANIZER;CN="Parish Office":MAILTO:palmersgreen@rcdow.org.uk
END:VEVENT
BEGIN:VEVENT
DTSTART;TZID=Europe/London:20250621T150000
DTEND;TZID=Europe/London:20250621T170000
DTSTAMP:20260425T172503
CREATED:20241205T101542Z
LAST-MODIFIED:20241205T101542Z
UID:10000116-1750518000-1750525200@stmonica.co.uk
SUMMARY:CARITAS - St Joseph's Saturday Club
DESCRIPTION:Monthly outreach meeting on 3rd Saturday of each month providing an inclusive space for people with Intellectual disabilities\, their families and friends. All welcome. \n 
URL:https://stmonica.co.uk/event/caritas-st-josephs-saturday-club-2/2025-06-21/
LOCATION:Newman Room\, 1 Stonard Road\, Palmers Green\, London\, N13 4DJ\, United Kingdom
CATEGORIES:Outreach
ORGANIZER;CN="Parish Office":MAILTO:palmersgreen@rcdow.org.uk
END:VEVENT
BEGIN:VEVENT
DTSTART;TZID=Europe/London:20250615T160000
DTEND;TZID=Europe/London:20250615T170000
DTSTAMP:20260425T172503
CREATED:20241117T080404Z
LAST-MODIFIED:20250222T163109Z
UID:10000027-1750003200-1750006800@stmonica.co.uk
SUMMARY:Parish Community Tea
DESCRIPTION:Originally\, set up as a CARITAS initiative called ‘Contact the elderly’ in the parish. \nOn the third Sunday of Each month Tea is served in the Newman Room with sandwiches and cake for members of the parish to socialise. \nSpeak with Sister Joyce if you wish to attend.
URL:https://stmonica.co.uk/event/caritas-community-tea/2025-06-15/
LOCATION:Newman Room\, 1 Stonard Road\, Palmers Green\, London\, N13 4DJ\, United Kingdom
CATEGORIES:Outreach,Social
END:VEVENT
BEGIN:VEVENT
DTSTART;TZID=Europe/London:20250529T000000
DTEND;TZID=Europe/London:20250529T235959
DTSTAMP:20260425T172503
CREATED:20241030T210058Z
LAST-MODIFIED:20241030T210058Z
UID:10000011-1748476800-1748563199@stmonica.co.uk
SUMMARY:The Ascension of the Lord
DESCRIPTION:Solemnity – Holy Day of Obligation \nMass will be celebrated at: \n7:00am \n9:30am \n7:30pm
URL:https://stmonica.co.uk/event/the-ascension-of-the-lord/
LOCATION:St Monica’s Church\, Palmers Green\, 1 Stonard Road\, London\, N13 4DJ\, United Kingdom
CATEGORIES:Mass
ORGANIZER;CN="Parish Office":MAILTO:palmersgreen@rcdow.org.uk
END:VEVENT
BEGIN:VEVENT
DTSTART;TZID=Europe/London:20250526T193000
DTEND;TZID=Europe/London:20250526T210000
DTSTAMP:20260425T172503
CREATED:20241205T102509Z
LAST-MODIFIED:20250421T104708Z
UID:10000140-1748287800-1748293200@stmonica.co.uk
SUMMARY:RCIA Meeting
DESCRIPTION:Weekly Catechetical meeting for those who are exploring the Catholic Faith and what it means to be a Christian. \nPlease speak to Fr Mehall if you want to know more. \n 
URL:https://stmonica.co.uk/event/rcia-meeting/2025-05-26/
CATEGORIES:Catechetics
END:VEVENT
BEGIN:VEVENT
DTSTART;TZID=Europe/London:20250525T113000
DTEND;TZID=Europe/London:20250525T130000
DTSTAMP:20260425T172503
CREATED:20241122T120800Z
LAST-MODIFIED:20241122T121015Z
UID:10000090-1748172600-1748178000@stmonica.co.uk
SUMMARY:Young Adults (18-35) - Live life to the full
DESCRIPTION:Meeting up after the 10:30am Mass (Newman Room). \nThis last Sunday of the Month meeting for Young Adults 18-35\, explore how to live life to the full as a disciple of Christ through community\, social action\, friendship\, reflection and the Holy Spirit. \nThere will be refreshments in the Large Hall.  So please come and join us.
URL:https://stmonica.co.uk/event/young-adults-18-35-live-life-to-the-full/2025-05-25/
LOCATION:Newman Room\, 1 Stonard Road\, Palmers Green\, London\, N13 4DJ\, United Kingdom
CATEGORIES:Catechetics
ORGANIZER;CN="Anna McMullen":MAILTO:annamcmullen@rcdow.org.uk
END:VEVENT
BEGIN:VEVENT
DTSTART;TZID=Europe/London:20250519T193000
DTEND;TZID=Europe/London:20250519T210000
DTSTAMP:20260425T172503
CREATED:20241205T102509Z
LAST-MODIFIED:20250421T104708Z
UID:10000139-1747683000-1747688400@stmonica.co.uk
SUMMARY:RCIA Meeting
DESCRIPTION:Weekly Catechetical meeting for those who are exploring the Catholic Faith and what it means to be a Christian. \nPlease speak to Fr Mehall if you want to know more. \n 
URL:https://stmonica.co.uk/event/rcia-meeting/2025-05-19/
CATEGORIES:Catechetics
END:VEVENT
BEGIN:VEVENT
DTSTART;TZID=Europe/London:20250518T160000
DTEND;TZID=Europe/London:20250518T170000
DTSTAMP:20260425T172503
CREATED:20241117T080404Z
LAST-MODIFIED:20250222T163109Z
UID:10000026-1747584000-1747587600@stmonica.co.uk
SUMMARY:Parish Community Tea
DESCRIPTION:Originally\, set up as a CARITAS initiative called ‘Contact the elderly’ in the parish. \nOn the third Sunday of Each month Tea is served in the Newman Room with sandwiches and cake for members of the parish to socialise. \nSpeak with Sister Joyce if you wish to attend.
URL:https://stmonica.co.uk/event/caritas-community-tea/2025-05-18/
LOCATION:Newman Room\, 1 Stonard Road\, Palmers Green\, London\, N13 4DJ\, United Kingdom
CATEGORIES:Outreach,Social
END:VEVENT
BEGIN:VEVENT
DTSTART;TZID=Europe/London:20250517T150000
DTEND;TZID=Europe/London:20250517T170000
DTSTAMP:20260425T172503
CREATED:20241205T101542Z
LAST-MODIFIED:20241205T101542Z
UID:10000115-1747494000-1747501200@stmonica.co.uk
SUMMARY:CARITAS - St Joseph's Saturday Club
DESCRIPTION:Monthly outreach meeting on 3rd Saturday of each month providing an inclusive space for people with Intellectual disabilities\, their families and friends. All welcome. \n 
URL:https://stmonica.co.uk/event/caritas-st-josephs-saturday-club-2/2025-05-17/
LOCATION:Newman Room\, 1 Stonard Road\, Palmers Green\, London\, N13 4DJ\, United Kingdom
CATEGORIES:Outreach
ORGANIZER;CN="Parish Office":MAILTO:palmersgreen@rcdow.org.uk
END:VEVENT
BEGIN:VEVENT
DTSTART;TZID=Europe/London:20250512T193000
DTEND;TZID=Europe/London:20250512T210000
DTSTAMP:20260425T172503
CREATED:20241205T102509Z
LAST-MODIFIED:20250421T104708Z
UID:10000138-1747078200-1747083600@stmonica.co.uk
SUMMARY:RCIA Meeting
DESCRIPTION:Weekly Catechetical meeting for those who are exploring the Catholic Faith and what it means to be a Christian. \nPlease speak to Fr Mehall if you want to know more. \n 
URL:https://stmonica.co.uk/event/rcia-meeting/2025-05-12/
CATEGORIES:Catechetics
END:VEVENT
BEGIN:VEVENT
DTSTART;TZID=Europe/London:20250510T180000
DTEND;TZID=Europe/London:20250510T190000
DTSTAMP:20260425T172503
CREATED:20241205T102927Z
LAST-MODIFIED:20241205T102927Z
UID:10000141-1746900000-1746903600@stmonica.co.uk
SUMMARY:Mass for New Catholics
DESCRIPTION:A wonderful celebration of those who have been received into the faith through the RCIA programme attend a mass at Westminster Cathedral with other members of the diocese.
URL:https://stmonica.co.uk/event/mass-for-new-catholics/
LOCATION:Westminster Cathedral\, Ambrosden Avenue\, City of Westminster\, SW1P\, United Kingdom
CATEGORIES:Catechetics,Mass,RCIA
ORGANIZER;CN="Parish Office":MAILTO:palmersgreen@rcdow.org.uk
END:VEVENT
BEGIN:VEVENT
DTSTART;TZID=Europe/London:20250505T193000
DTEND;TZID=Europe/London:20250505T210000
DTSTAMP:20260425T172504
CREATED:20241205T102509Z
LAST-MODIFIED:20250421T104708Z
UID:10000137-1746473400-1746478800@stmonica.co.uk
SUMMARY:RCIA Meeting
DESCRIPTION:Weekly Catechetical meeting for those who are exploring the Catholic Faith and what it means to be a Christian. \nPlease speak to Fr Mehall if you want to know more. \n 
URL:https://stmonica.co.uk/event/rcia-meeting/2025-05-05/
CATEGORIES:Catechetics
END:VEVENT
END:VCALENDAR