BEGIN:VCALENDAR
VERSION:2.0
PRODID:-//St Monica&#039;s, Palmers Green - ECPv6.15.8//NONSGML v1.0//EN
CALSCALE:GREGORIAN
METHOD:PUBLISH
X-WR-CALNAME:St Monica&#039;s, Palmers Green
X-ORIGINAL-URL:https://stmonica.co.uk
X-WR-CALDESC:Events for St Monica&#039;s, Palmers Green
REFRESH-INTERVAL;VALUE=DURATION:PT1H
X-Robots-Tag:noindex
X-PUBLISHED-TTL:PT1H
BEGIN:VTIMEZONE
TZID:Europe/London
BEGIN:DAYLIGHT
TZOFFSETFROM:+0000
TZOFFSETTO:+0100
TZNAME:BST
DTSTART:20230326T010000
END:DAYLIGHT
BEGIN:STANDARD
TZOFFSETFROM:+0100
TZOFFSETTO:+0000
TZNAME:GMT
DTSTART:20231029T010000
END:STANDARD
BEGIN:DAYLIGHT
TZOFFSETFROM:+0000
TZOFFSETTO:+0100
TZNAME:BST
DTSTART:20240331T010000
END:DAYLIGHT
BEGIN:STANDARD
TZOFFSETFROM:+0100
TZOFFSETTO:+0000
TZNAME:GMT
DTSTART:20241027T010000
END:STANDARD
BEGIN:DAYLIGHT
TZOFFSETFROM:+0000
TZOFFSETTO:+0100
TZNAME:BST
DTSTART:20250330T010000
END:DAYLIGHT
BEGIN:STANDARD
TZOFFSETFROM:+0100
TZOFFSETTO:+0000
TZNAME:GMT
DTSTART:20251026T010000
END:STANDARD
END:VTIMEZONE
BEGIN:VEVENT
DTSTART;TZID=Europe/London:20241215T160000
DTEND;TZID=Europe/London:20241215T170000
DTSTAMP:20260425T230343
CREATED:20241117T080404Z
LAST-MODIFIED:20250222T163109Z
UID:10000021-1734278400-1734282000@stmonica.co.uk
SUMMARY:Parish Community Tea
DESCRIPTION:Originally\, set up as a CARITAS initiative called ‘Contact the elderly’ in the parish. \nOn the third Sunday of Each month Tea is served in the Newman Room with sandwiches and cake for members of the parish to socialise. \nSpeak with Sister Joyce if you wish to attend.
URL:https://stmonica.co.uk/event/caritas-community-tea/2024-12-15/
LOCATION:Newman Room\, 1 Stonard Road\, Palmers Green\, London\, N13 4DJ\, United Kingdom
CATEGORIES:Outreach,Social
END:VEVENT
BEGIN:VEVENT
DTSTART;TZID=Europe/London:20241213T193000
DTEND;TZID=Europe/London:20241213T213000
DTSTAMP:20260425T230343
CREATED:20241130T000733Z
LAST-MODIFIED:20241130T000733Z
UID:10000107-1734118200-1734125400@stmonica.co.uk
SUMMARY:Young Adults (18-35 yrs) Deanery Gathering
DESCRIPTION:Young Adults (18-35 years of age) are invited to an Enfield Deanery gathering. \nThis month we are at Our Lady of Lourdes Parish\, New Southgate N11 1AA. \nThere will be Worship music\, speaker & Adoration followed by social + Christmas party with games & food. \nSpeak with Anna McMullen if you wish to attend.
URL:https://stmonica.co.uk/event/young-adults-18-35-yrs-deanery-gathering/
LOCATION:Our Lady of Lourdes\, New Southgate\, Bowes Road\, Southgate\, London\, N11 1AA\, United Kingdom
CATEGORIES:Catechetics,Deanery Youth,Outreach,Prayer,Social
ORGANIZER;CN="Anna McMullen":MAILTO:annamcmullen@rcdow.org.uk
END:VEVENT
BEGIN:VEVENT
DTSTART;TZID=Europe/London:20241207T120000
DTEND;TZID=Europe/London:20241207T160000
DTSTAMP:20260425T230343
CREATED:20241122T115217Z
LAST-MODIFIED:20241122T115217Z
UID:10000081-1733572800-1733587200@stmonica.co.uk
SUMMARY:St Monica's School Christmas Bazaar
DESCRIPTION:School Christmas Bazaar – All Welcome
URL:https://stmonica.co.uk/event/st-monicas-school-christmas-bazaar/
LOCATION:St Monica’s School\, Canon Road\, Southgate\, London\, N14 7HE\, United Kingdom
CATEGORIES:Parish School,Social
END:VEVENT
BEGIN:VEVENT
DTSTART;TZID=Europe/London:20241122T190000
DTEND;TZID=Europe/London:20241122T210000
DTSTAMP:20260425T230343
CREATED:20241116T151843Z
LAST-MODIFIED:20241116T151843Z
UID:10000019-1732302000-1732309200@stmonica.co.uk
SUMMARY:Youth SUMMIT - Enfield Deanery
DESCRIPTION:Hosted by the Diocese of Westminster Youth Ministry \nAged 14 – 17? \nWhy not join us for an evening of fun\, games\, and Adoration at St Monica’s Church. \nWhy not bring a friend. \nFood and drink will be provided. \nEnfield Deanery Summit
URL:https://stmonica.co.uk/event/youth-summit-enfield-deanery/
LOCATION:St Monica’s Large Parish Hall\, 521 Green Lanes\, Palmers Green\, London\, N13 4DH\, United Kingdom
CATEGORIES:Catechetics,Prayer,Social
ORGANIZER;CN="Anna McMullen":MAILTO:annamcmullan@rcdow.org.uk
GEO:51.62412° N;0.10283° W
X-APPLE-STRUCTURED-LOCATION;VALUE=URI;X-ADDRESS=St Monica’s Large Parish Hall 521 Green Lanes Palmers Green London N13 4DH United Kingdom;X-APPLE-RADIUS=500;X-TITLE=521 Green Lanes\, Palmers Green:geo:0.10283° W,51.62412° N
END:VEVENT
BEGIN:VEVENT
DTSTART;TZID=Europe/London:20241117T160000
DTEND;TZID=Europe/London:20241117T170000
DTSTAMP:20260425T230343
CREATED:20241117T080404Z
LAST-MODIFIED:20250222T163109Z
UID:10000020-1731859200-1731862800@stmonica.co.uk
SUMMARY:Parish Community Tea
DESCRIPTION:Originally\, set up as a CARITAS initiative called ‘Contact the elderly’ in the parish. \nOn the third Sunday of Each month Tea is served in the Newman Room with sandwiches and cake for members of the parish to socialise. \nSpeak with Sister Joyce if you wish to attend.
URL:https://stmonica.co.uk/event/caritas-community-tea/2024-11-17/
LOCATION:Newman Room\, 1 Stonard Road\, Palmers Green\, London\, N13 4DJ\, United Kingdom
CATEGORIES:Outreach,Social
END:VEVENT
END:VCALENDAR