BEGIN:VCALENDAR
VERSION:2.0
PRODID:-//St Monica&#039;s, Palmers Green - ECPv6.15.8//NONSGML v1.0//EN
CALSCALE:GREGORIAN
METHOD:PUBLISH
X-ORIGINAL-URL:https://stmonica.co.uk
X-WR-CALDESC:Events for St Monica&#039;s, Palmers Green
REFRESH-INTERVAL;VALUE=DURATION:PT1H
X-Robots-Tag:noindex
X-PUBLISHED-TTL:PT1H
BEGIN:VTIMEZONE
TZID:Europe/London
BEGIN:DAYLIGHT
TZOFFSETFROM:+0000
TZOFFSETTO:+0100
TZNAME:BST
DTSTART:20230326T010000
END:DAYLIGHT
BEGIN:STANDARD
TZOFFSETFROM:+0100
TZOFFSETTO:+0000
TZNAME:GMT
DTSTART:20231029T010000
END:STANDARD
BEGIN:DAYLIGHT
TZOFFSETFROM:+0000
TZOFFSETTO:+0100
TZNAME:BST
DTSTART:20240331T010000
END:DAYLIGHT
BEGIN:STANDARD
TZOFFSETFROM:+0100
TZOFFSETTO:+0000
TZNAME:GMT
DTSTART:20241027T010000
END:STANDARD
BEGIN:DAYLIGHT
TZOFFSETFROM:+0000
TZOFFSETTO:+0100
TZNAME:BST
DTSTART:20250330T010000
END:DAYLIGHT
BEGIN:STANDARD
TZOFFSETFROM:+0100
TZOFFSETTO:+0000
TZNAME:GMT
DTSTART:20251026T010000
END:STANDARD
BEGIN:DAYLIGHT
TZOFFSETFROM:+0000
TZOFFSETTO:+0100
TZNAME:BST
DTSTART:20260329T010000
END:DAYLIGHT
BEGIN:STANDARD
TZOFFSETFROM:+0100
TZOFFSETTO:+0000
TZNAME:GMT
DTSTART:20261025T010000
END:STANDARD
END:VTIMEZONE
BEGIN:VEVENT
DTSTART;TZID=Europe/London:20250402T193000
DTEND;TZID=Europe/London:20250402T213000
DTSTAMP:20260426T045007
CREATED:20250222T123328Z
LAST-MODIFIED:20250222T125805Z
UID:10000596-1743622200-1743629400@stmonica.co.uk
SUMMARY:Penitential Service
DESCRIPTION:Each year we hold a Pentitential Service\, which proves popular with parishioners. \nEach of us is called to take stock of our life and reflect on the ways we  have sadly seperated ourselves from God & our neighbour. \nCome then and be reconciled\, healed & reconnected through the Sacrament of Reconciliation (Confession). \n 
URL:https://stmonica.co.uk/event/penitential-service/
LOCATION:St Monica’s Church\, Palmers Green\, 1 Stonard Road\, London\, N13 4DJ\, United Kingdom
CATEGORIES:Lent,Reconciliation,Sacraments
ORGANIZER;CN="Parish Office":MAILTO:palmersgreen@rcdow.org.uk
END:VEVENT
BEGIN:VEVENT
DTSTART;TZID=Europe/London:20241222T130000
DTEND;TZID=Europe/London:20241222T133000
DTSTAMP:20260426T045007
CREATED:20241213T183425Z
LAST-MODIFIED:20241213T183425Z
UID:10000537-1734872400-1734874200@stmonica.co.uk
SUMMARY:4th Sunday of Advent Sacrament of Reconciliation
DESCRIPTION:  \nEach day between 10-11am on: \nMonday 16th December \nTuesday 17th December \nWednesday 18th December \nThursday 19th December \nFriday 20th December \nSaturday 21st December \n  \nAfter each of the Sunday Masses on 4th Sunday of Advent 21st and 22nd December.
URL:https://stmonica.co.uk/event/4th-sunday-of-advent-sacrament-of-reconciliation/2024-12-22/4/
LOCATION:St Monica’s Church\, Palmers Green\, 1 Stonard Road\, London\, N13 4DJ\, United Kingdom
CATEGORIES:Reconciliation,Sacraments
ORGANIZER;CN="Parish Office":MAILTO:palmersgreen@rcdow.org.uk
END:VEVENT
BEGIN:VEVENT
DTSTART;TZID=Europe/London:20241222T113000
DTEND;TZID=Europe/London:20241222T120000
DTSTAMP:20260426T045007
CREATED:20241213T183425Z
LAST-MODIFIED:20241213T183425Z
UID:10000536-1734867000-1734868800@stmonica.co.uk
SUMMARY:4th Sunday of Advent Sacrament of Reconciliation
DESCRIPTION:  \nEach day between 10-11am on: \nMonday 16th December \nTuesday 17th December \nWednesday 18th December \nThursday 19th December \nFriday 20th December \nSaturday 21st December \n  \nAfter each of the Sunday Masses on 4th Sunday of Advent 21st and 22nd December.
URL:https://stmonica.co.uk/event/4th-sunday-of-advent-sacrament-of-reconciliation/2024-12-22/3/
LOCATION:St Monica’s Church\, Palmers Green\, 1 Stonard Road\, London\, N13 4DJ\, United Kingdom
CATEGORIES:Reconciliation,Sacraments
ORGANIZER;CN="Parish Office":MAILTO:palmersgreen@rcdow.org.uk
END:VEVENT
BEGIN:VEVENT
DTSTART;TZID=Europe/London:20241222T100000
DTEND;TZID=Europe/London:20241222T103000
DTSTAMP:20260426T045007
CREATED:20241213T183425Z
LAST-MODIFIED:20241213T183425Z
UID:10000535-1734861600-1734863400@stmonica.co.uk
SUMMARY:4th Sunday of Advent Sacrament of Reconciliation
DESCRIPTION:  \nEach day between 10-11am on: \nMonday 16th December \nTuesday 17th December \nWednesday 18th December \nThursday 19th December \nFriday 20th December \nSaturday 21st December \n  \nAfter each of the Sunday Masses on 4th Sunday of Advent 21st and 22nd December.
URL:https://stmonica.co.uk/event/4th-sunday-of-advent-sacrament-of-reconciliation/2024-12-22/2/
LOCATION:St Monica’s Church\, Palmers Green\, 1 Stonard Road\, London\, N13 4DJ\, United Kingdom
CATEGORIES:Reconciliation,Sacraments
ORGANIZER;CN="Parish Office":MAILTO:palmersgreen@rcdow.org.uk
END:VEVENT
BEGIN:VEVENT
DTSTART;TZID=Europe/London:20241222T081500
DTEND;TZID=Europe/London:20241222T090000
DTSTAMP:20260426T045007
CREATED:20241213T183425Z
LAST-MODIFIED:20241213T183425Z
UID:10000534-1734855300-1734858000@stmonica.co.uk
SUMMARY:4th Sunday of Advent Sacrament of Reconciliation
DESCRIPTION:  \nEach day between 10-11am on: \nMonday 16th December \nTuesday 17th December \nWednesday 18th December \nThursday 19th December \nFriday 20th December \nSaturday 21st December \n  \nAfter each of the Sunday Masses on 4th Sunday of Advent 21st and 22nd December.
URL:https://stmonica.co.uk/event/4th-sunday-of-advent-sacrament-of-reconciliation/2024-12-22/1/
LOCATION:St Monica’s Church\, Palmers Green\, 1 Stonard Road\, London\, N13 4DJ\, United Kingdom
CATEGORIES:Reconciliation,Sacraments
ORGANIZER;CN="Parish Office":MAILTO:palmersgreen@rcdow.org.uk
END:VEVENT
BEGIN:VEVENT
DTSTART;TZID=Europe/London:20241221T190000
DTEND;TZID=Europe/London:20241221T193000
DTSTAMP:20260426T045007
CREATED:20241213T183425Z
LAST-MODIFIED:20241213T183425Z
UID:10000533-1734807600-1734809400@stmonica.co.uk
SUMMARY:4th Sunday of Advent Sacrament of Reconciliation
DESCRIPTION:  \nEach day between 10-11am on: \nMonday 16th December \nTuesday 17th December \nWednesday 18th December \nThursday 19th December \nFriday 20th December \nSaturday 21st December \n  \nAfter each of the Sunday Masses on 4th Sunday of Advent 21st and 22nd December.
URL:https://stmonica.co.uk/event/4th-sunday-of-advent-sacrament-of-reconciliation/2024-12-21/
LOCATION:St Monica’s Church\, Palmers Green\, 1 Stonard Road\, London\, N13 4DJ\, United Kingdom
CATEGORIES:Reconciliation,Sacraments
ORGANIZER;CN="Parish Office":MAILTO:palmersgreen@rcdow.org.uk
END:VEVENT
BEGIN:VEVENT
DTSTART;TZID=Europe/London:20241221T100000
DTEND;TZID=Europe/London:20241221T110000
DTSTAMP:20260426T045007
CREATED:20241213T181021Z
LAST-MODIFIED:20241213T182956Z
UID:10000150-1734775200-1734778800@stmonica.co.uk
SUMMARY:Advent Sacrament of Reconciliation
DESCRIPTION:Each day between 10-11am on: \nMonday 16th December \nTuesday 17th December \nWednesday 18th December \nThursday 19th December \nFriday 20th December \nSaturday 21st December \n  \nAfter each of the Sunday Masses on 4th Sunday of Advent 21st and 22nd December.
URL:https://stmonica.co.uk/event/advent-sacrament-of-reconciliation/2024-12-21/
LOCATION:St Monica’s Church\, Palmers Green\, 1 Stonard Road\, London\, N13 4DJ\, United Kingdom
CATEGORIES:Reconciliation,Sacraments
ORGANIZER;CN="Parish Office":MAILTO:palmersgreen@rcdow.org.uk
END:VEVENT
BEGIN:VEVENT
DTSTART;TZID=Europe/London:20241220T100000
DTEND;TZID=Europe/London:20241220T110000
DTSTAMP:20260426T045007
CREATED:20241213T181021Z
LAST-MODIFIED:20241213T182956Z
UID:10000149-1734688800-1734692400@stmonica.co.uk
SUMMARY:Advent Sacrament of Reconciliation
DESCRIPTION:Each day between 10-11am on: \nMonday 16th December \nTuesday 17th December \nWednesday 18th December \nThursday 19th December \nFriday 20th December \nSaturday 21st December \n  \nAfter each of the Sunday Masses on 4th Sunday of Advent 21st and 22nd December.
URL:https://stmonica.co.uk/event/advent-sacrament-of-reconciliation/2024-12-20/
LOCATION:St Monica’s Church\, Palmers Green\, 1 Stonard Road\, London\, N13 4DJ\, United Kingdom
CATEGORIES:Reconciliation,Sacraments
ORGANIZER;CN="Parish Office":MAILTO:palmersgreen@rcdow.org.uk
END:VEVENT
BEGIN:VEVENT
DTSTART;TZID=Europe/London:20241219T100000
DTEND;TZID=Europe/London:20241219T110000
DTSTAMP:20260426T045007
CREATED:20241213T181021Z
LAST-MODIFIED:20241213T182956Z
UID:10000148-1734602400-1734606000@stmonica.co.uk
SUMMARY:Advent Sacrament of Reconciliation
DESCRIPTION:Each day between 10-11am on: \nMonday 16th December \nTuesday 17th December \nWednesday 18th December \nThursday 19th December \nFriday 20th December \nSaturday 21st December \n  \nAfter each of the Sunday Masses on 4th Sunday of Advent 21st and 22nd December.
URL:https://stmonica.co.uk/event/advent-sacrament-of-reconciliation/2024-12-19/
LOCATION:St Monica’s Church\, Palmers Green\, 1 Stonard Road\, London\, N13 4DJ\, United Kingdom
CATEGORIES:Reconciliation,Sacraments
ORGANIZER;CN="Parish Office":MAILTO:palmersgreen@rcdow.org.uk
END:VEVENT
BEGIN:VEVENT
DTSTART;TZID=Europe/London:20241218T100000
DTEND;TZID=Europe/London:20241218T110000
DTSTAMP:20260426T045007
CREATED:20241213T181021Z
LAST-MODIFIED:20241213T182956Z
UID:10000147-1734516000-1734519600@stmonica.co.uk
SUMMARY:Advent Sacrament of Reconciliation
DESCRIPTION:Each day between 10-11am on: \nMonday 16th December \nTuesday 17th December \nWednesday 18th December \nThursday 19th December \nFriday 20th December \nSaturday 21st December \n  \nAfter each of the Sunday Masses on 4th Sunday of Advent 21st and 22nd December.
URL:https://stmonica.co.uk/event/advent-sacrament-of-reconciliation/2024-12-18/
LOCATION:St Monica’s Church\, Palmers Green\, 1 Stonard Road\, London\, N13 4DJ\, United Kingdom
CATEGORIES:Reconciliation,Sacraments
ORGANIZER;CN="Parish Office":MAILTO:palmersgreen@rcdow.org.uk
END:VEVENT
BEGIN:VEVENT
DTSTART;TZID=Europe/London:20241217T100000
DTEND;TZID=Europe/London:20241217T110000
DTSTAMP:20260426T045007
CREATED:20241213T181021Z
LAST-MODIFIED:20241213T182956Z
UID:10000146-1734429600-1734433200@stmonica.co.uk
SUMMARY:Advent Sacrament of Reconciliation
DESCRIPTION:Each day between 10-11am on: \nMonday 16th December \nTuesday 17th December \nWednesday 18th December \nThursday 19th December \nFriday 20th December \nSaturday 21st December \n  \nAfter each of the Sunday Masses on 4th Sunday of Advent 21st and 22nd December.
URL:https://stmonica.co.uk/event/advent-sacrament-of-reconciliation/2024-12-17/
LOCATION:St Monica’s Church\, Palmers Green\, 1 Stonard Road\, London\, N13 4DJ\, United Kingdom
CATEGORIES:Reconciliation,Sacraments
ORGANIZER;CN="Parish Office":MAILTO:palmersgreen@rcdow.org.uk
END:VEVENT
BEGIN:VEVENT
DTSTART;TZID=Europe/London:20241216T100000
DTEND;TZID=Europe/London:20241216T110000
DTSTAMP:20260426T045007
CREATED:20241213T181021Z
LAST-MODIFIED:20241213T182956Z
UID:10000145-1734343200-1734346800@stmonica.co.uk
SUMMARY:Advent Sacrament of Reconciliation
DESCRIPTION:Each day between 10-11am on: \nMonday 16th December \nTuesday 17th December \nWednesday 18th December \nThursday 19th December \nFriday 20th December \nSaturday 21st December \n  \nAfter each of the Sunday Masses on 4th Sunday of Advent 21st and 22nd December.
URL:https://stmonica.co.uk/event/advent-sacrament-of-reconciliation/2024-12-16/
LOCATION:St Monica’s Church\, Palmers Green\, 1 Stonard Road\, London\, N13 4DJ\, United Kingdom
CATEGORIES:Reconciliation,Sacraments
ORGANIZER;CN="Parish Office":MAILTO:palmersgreen@rcdow.org.uk
END:VEVENT
BEGIN:VEVENT
DTSTART;TZID=Europe/London:20241123T103000
DTEND;TZID=Europe/London:20241123T110000
DTSTAMP:20260426T045007
CREATED:20241122T120123Z
LAST-MODIFIED:20241122T120123Z
UID:10000083-1732357800-1732359600@stmonica.co.uk
SUMMARY:First Reconciliations
DESCRIPTION:First Reconciliations will be celebrated for our First Holy Communion Children.
URL:https://stmonica.co.uk/event/first-reconciliations/
CATEGORIES:Sacraments
END:VEVENT
END:VCALENDAR