BEGIN:VCALENDAR
VERSION:2.0
PRODID:-//St Monica&#039;s, Palmers Green - ECPv6.15.8//NONSGML v1.0//EN
CALSCALE:GREGORIAN
METHOD:PUBLISH
X-WR-CALNAME:St Monica&#039;s, Palmers Green
X-ORIGINAL-URL:https://stmonica.co.uk
X-WR-CALDESC:Events for St Monica&#039;s, Palmers Green
REFRESH-INTERVAL;VALUE=DURATION:PT1H
X-Robots-Tag:noindex
X-PUBLISHED-TTL:PT1H
BEGIN:VTIMEZONE
TZID:Europe/London
BEGIN:DAYLIGHT
TZOFFSETFROM:+0000
TZOFFSETTO:+0100
TZNAME:BST
DTSTART:20280326T010000
END:DAYLIGHT
BEGIN:STANDARD
TZOFFSETFROM:+0100
TZOFFSETTO:+0000
TZNAME:GMT
DTSTART:20281029T010000
END:STANDARD
BEGIN:DAYLIGHT
TZOFFSETFROM:+0000
TZOFFSETTO:+0100
TZNAME:BST
DTSTART:20290325T010000
END:DAYLIGHT
BEGIN:STANDARD
TZOFFSETFROM:+0100
TZOFFSETTO:+0000
TZNAME:GMT
DTSTART:20291028T010000
END:STANDARD
BEGIN:DAYLIGHT
TZOFFSETFROM:+0000
TZOFFSETTO:+0100
TZNAME:BST
DTSTART:20300331T010000
END:DAYLIGHT
BEGIN:STANDARD
TZOFFSETFROM:+0100
TZOFFSETTO:+0000
TZNAME:GMT
DTSTART:20301027T010000
END:STANDARD
BEGIN:DAYLIGHT
TZOFFSETFROM:+0000
TZOFFSETTO:+0100
TZNAME:BST
DTSTART:20310330T010000
END:DAYLIGHT
BEGIN:STANDARD
TZOFFSETFROM:+0100
TZOFFSETTO:+0000
TZNAME:GMT
DTSTART:20311026T010000
END:STANDARD
END:VTIMEZONE
BEGIN:VEVENT
DTSTART;TZID=Europe/London:20290916T160000
DTEND;TZID=Europe/London:20290916T170000
DTSTAMP:20260426T005652
CREATED:20241117T080404Z
LAST-MODIFIED:20250222T163109Z
UID:10000078-1884268800-1884272400@stmonica.co.uk
SUMMARY:Parish Community Tea
DESCRIPTION:Originally\, set up as a CARITAS initiative called ‘Contact the elderly’ in the parish. \nOn the third Sunday of Each month Tea is served in the Newman Room with sandwiches and cake for members of the parish to socialise. \nSpeak with Sister Joyce if you wish to attend.
URL:https://stmonica.co.uk/event/caritas-community-tea/2029-09-16/
LOCATION:Newman Room\, 1 Stonard Road\, Palmers Green\, London\, N13 4DJ\, United Kingdom
CATEGORIES:Outreach,Social
END:VEVENT
BEGIN:VEVENT
DTSTART;TZID=Europe/London:20291021T160000
DTEND;TZID=Europe/London:20291021T170000
DTSTAMP:20260426T005652
CREATED:20241117T080404Z
LAST-MODIFIED:20250222T163109Z
UID:10000079-1887292800-1887296400@stmonica.co.uk
SUMMARY:Parish Community Tea
DESCRIPTION:Originally\, set up as a CARITAS initiative called ‘Contact the elderly’ in the parish. \nOn the third Sunday of Each month Tea is served in the Newman Room with sandwiches and cake for members of the parish to socialise. \nSpeak with Sister Joyce if you wish to attend.
URL:https://stmonica.co.uk/event/caritas-community-tea/2029-10-21/
LOCATION:Newman Room\, 1 Stonard Road\, Palmers Green\, London\, N13 4DJ\, United Kingdom
CATEGORIES:Outreach,Social
END:VEVENT
BEGIN:VEVENT
DTSTART;TZID=Europe/London:20291118T160000
DTEND;TZID=Europe/London:20291118T170000
DTSTAMP:20260426T005652
CREATED:20241117T080404Z
LAST-MODIFIED:20250222T163109Z
UID:10000082-1889712000-1889715600@stmonica.co.uk
SUMMARY:Parish Community Tea
DESCRIPTION:Originally\, set up as a CARITAS initiative called ‘Contact the elderly’ in the parish. \nOn the third Sunday of Each month Tea is served in the Newman Room with sandwiches and cake for members of the parish to socialise. \nSpeak with Sister Joyce if you wish to attend.
URL:https://stmonica.co.uk/event/caritas-community-tea/2029-11-18/
LOCATION:Newman Room\, 1 Stonard Road\, Palmers Green\, London\, N13 4DJ\, United Kingdom
CATEGORIES:Outreach,Social
END:VEVENT
BEGIN:VEVENT
DTSTART;TZID=Europe/London:20291216T160000
DTEND;TZID=Europe/London:20291216T170000
DTSTAMP:20260426T005652
CREATED:20241117T080404Z
LAST-MODIFIED:20250222T163109Z
UID:10000660-1892131200-1892134800@stmonica.co.uk
SUMMARY:Parish Community Tea
DESCRIPTION:Originally\, set up as a CARITAS initiative called ‘Contact the elderly’ in the parish. \nOn the third Sunday of Each month Tea is served in the Newman Room with sandwiches and cake for members of the parish to socialise. \nSpeak with Sister Joyce if you wish to attend.
URL:https://stmonica.co.uk/event/caritas-community-tea/2029-12-16/
LOCATION:Newman Room\, 1 Stonard Road\, Palmers Green\, London\, N13 4DJ\, United Kingdom
CATEGORIES:Outreach,Social
END:VEVENT
BEGIN:VEVENT
DTSTART;TZID=Europe/London:20300120T160000
DTEND;TZID=Europe/London:20300120T170000
DTSTAMP:20260426T005652
CREATED:20241117T080404Z
LAST-MODIFIED:20250222T163109Z
UID:10000661-1895155200-1895158800@stmonica.co.uk
SUMMARY:Parish Community Tea
DESCRIPTION:Originally\, set up as a CARITAS initiative called ‘Contact the elderly’ in the parish. \nOn the third Sunday of Each month Tea is served in the Newman Room with sandwiches and cake for members of the parish to socialise. \nSpeak with Sister Joyce if you wish to attend.
URL:https://stmonica.co.uk/event/caritas-community-tea/2030-01-20/
LOCATION:Newman Room\, 1 Stonard Road\, Palmers Green\, London\, N13 4DJ\, United Kingdom
CATEGORIES:Outreach,Social
END:VEVENT
BEGIN:VEVENT
DTSTART;TZID=Europe/London:20300217T160000
DTEND;TZID=Europe/London:20300217T170000
DTSTAMP:20260426T005652
CREATED:20241117T080404Z
LAST-MODIFIED:20250222T163109Z
UID:10000662-1897574400-1897578000@stmonica.co.uk
SUMMARY:Parish Community Tea
DESCRIPTION:Originally\, set up as a CARITAS initiative called ‘Contact the elderly’ in the parish. \nOn the third Sunday of Each month Tea is served in the Newman Room with sandwiches and cake for members of the parish to socialise. \nSpeak with Sister Joyce if you wish to attend.
URL:https://stmonica.co.uk/event/caritas-community-tea/2030-02-17/
LOCATION:Newman Room\, 1 Stonard Road\, Palmers Green\, London\, N13 4DJ\, United Kingdom
CATEGORIES:Outreach,Social
END:VEVENT
END:VCALENDAR