BEGIN:VCALENDAR
VERSION:2.0
PRODID:-//St Monica&#039;s, Palmers Green - ECPv6.15.8//NONSGML v1.0//EN
CALSCALE:GREGORIAN
METHOD:PUBLISH
X-ORIGINAL-URL:https://stmonica.co.uk
X-WR-CALDESC:Events for St Monica&#039;s, Palmers Green
REFRESH-INTERVAL;VALUE=DURATION:PT1H
X-Robots-Tag:noindex
X-PUBLISHED-TTL:PT1H
BEGIN:VTIMEZONE
TZID:Europe/London
BEGIN:DAYLIGHT
TZOFFSETFROM:+0000
TZOFFSETTO:+0100
TZNAME:BST
DTSTART:20230326T010000
END:DAYLIGHT
BEGIN:STANDARD
TZOFFSETFROM:+0100
TZOFFSETTO:+0000
TZNAME:GMT
DTSTART:20231029T010000
END:STANDARD
BEGIN:DAYLIGHT
TZOFFSETFROM:+0000
TZOFFSETTO:+0100
TZNAME:BST
DTSTART:20240331T010000
END:DAYLIGHT
BEGIN:STANDARD
TZOFFSETFROM:+0100
TZOFFSETTO:+0000
TZNAME:GMT
DTSTART:20241027T010000
END:STANDARD
BEGIN:DAYLIGHT
TZOFFSETFROM:+0000
TZOFFSETTO:+0100
TZNAME:BST
DTSTART:20250330T010000
END:DAYLIGHT
BEGIN:STANDARD
TZOFFSETFROM:+0100
TZOFFSETTO:+0000
TZNAME:GMT
DTSTART:20251026T010000
END:STANDARD
BEGIN:DAYLIGHT
TZOFFSETFROM:+0000
TZOFFSETTO:+0100
TZNAME:BST
DTSTART:20260329T010000
END:DAYLIGHT
BEGIN:STANDARD
TZOFFSETFROM:+0100
TZOFFSETTO:+0000
TZNAME:GMT
DTSTART:20261025T010000
END:STANDARD
END:VTIMEZONE
BEGIN:VEVENT
DTSTART;TZID=Europe/London:20250216T160000
DTEND;TZID=Europe/London:20250216T170000
DTSTAMP:20260425T231507
CREATED:20241117T080404Z
LAST-MODIFIED:20250222T163109Z
UID:10000023-1739721600-1739725200@stmonica.co.uk
SUMMARY:Parish Community Tea
DESCRIPTION:Originally\, set up as a CARITAS initiative called ‘Contact the elderly’ in the parish. \nOn the third Sunday of Each month Tea is served in the Newman Room with sandwiches and cake for members of the parish to socialise. \nSpeak with Sister Joyce if you wish to attend.
URL:https://stmonica.co.uk/event/caritas-community-tea/2025-02-16/
LOCATION:Newman Room\, 1 Stonard Road\, Palmers Green\, London\, N13 4DJ\, United Kingdom
CATEGORIES:Outreach,Social
END:VEVENT
BEGIN:VEVENT
DTSTART;TZID=Europe/London:20250215T150000
DTEND;TZID=Europe/London:20250215T170000
DTSTAMP:20260425T231507
CREATED:20241205T101542Z
LAST-MODIFIED:20241205T101542Z
UID:10000112-1739631600-1739638800@stmonica.co.uk
SUMMARY:CARITAS - St Joseph's Saturday Club
DESCRIPTION:Monthly outreach meeting on 3rd Saturday of each month providing an inclusive space for people with Intellectual disabilities\, their families and friends. All welcome. \n 
URL:https://stmonica.co.uk/event/caritas-st-josephs-saturday-club-2/2025-02-15/
LOCATION:Newman Room\, 1 Stonard Road\, Palmers Green\, London\, N13 4DJ\, United Kingdom
CATEGORIES:Outreach
ORGANIZER;CN="Parish Office":MAILTO:palmersgreen@rcdow.org.uk
END:VEVENT
BEGIN:VEVENT
DTSTART;TZID=Europe/London:20250119T180000
DTEND;TZID=Europe/London:20250119T190000
DTSTAMP:20260425T231507
CREATED:20241213T173149Z
LAST-MODIFIED:20250222T130013Z
UID:10000142-1737309600-1737313200@stmonica.co.uk
SUMMARY:Churches Together - 'Songs of Praise'
DESCRIPTION:A service of Songs and Praise is being organised by St Paul’s  Winchmore Hill for Christian Unity Week.
URL:https://stmonica.co.uk/event/churches-together-songs-of-praise/
LOCATION:St Paul’s Church\, Church Hill\, Winchmore Hill\, N21 1JA\, Church Hill\, London\, N21 1JA\, United Kingdom
CATEGORIES:Ecumenical Outreach,Outreach
ORGANIZER;CN="Parish Office":MAILTO:palmersgreen@rcdow.org.uk
END:VEVENT
BEGIN:VEVENT
DTSTART;TZID=Europe/London:20250119T160000
DTEND;TZID=Europe/London:20250119T170000
DTSTAMP:20260425T231507
CREATED:20241117T080404Z
LAST-MODIFIED:20250222T163109Z
UID:10000022-1737302400-1737306000@stmonica.co.uk
SUMMARY:Parish Community Tea
DESCRIPTION:Originally\, set up as a CARITAS initiative called ‘Contact the elderly’ in the parish. \nOn the third Sunday of Each month Tea is served in the Newman Room with sandwiches and cake for members of the parish to socialise. \nSpeak with Sister Joyce if you wish to attend.
URL:https://stmonica.co.uk/event/caritas-community-tea/2025-01-19/
LOCATION:Newman Room\, 1 Stonard Road\, Palmers Green\, London\, N13 4DJ\, United Kingdom
CATEGORIES:Outreach,Social
END:VEVENT
BEGIN:VEVENT
DTSTART;TZID=Europe/London:20250118T150000
DTEND;TZID=Europe/London:20250118T170000
DTSTAMP:20260425T231507
CREATED:20241205T101542Z
LAST-MODIFIED:20241205T101542Z
UID:10000111-1737212400-1737219600@stmonica.co.uk
SUMMARY:CARITAS - St Joseph's Saturday Club
DESCRIPTION:Monthly outreach meeting on 3rd Saturday of each month providing an inclusive space for people with Intellectual disabilities\, their families and friends. All welcome. \n 
URL:https://stmonica.co.uk/event/caritas-st-josephs-saturday-club-2/2025-01-18/
LOCATION:Newman Room\, 1 Stonard Road\, Palmers Green\, London\, N13 4DJ\, United Kingdom
CATEGORIES:Outreach
ORGANIZER;CN="Parish Office":MAILTO:palmersgreen@rcdow.org.uk
END:VEVENT
BEGIN:VEVENT
DTSTART;TZID=Europe/London:20241221T150000
DTEND;TZID=Europe/London:20241221T170000
DTSTAMP:20260425T231507
CREATED:20241205T101542Z
LAST-MODIFIED:20241205T101542Z
UID:10000110-1734793200-1734800400@stmonica.co.uk
SUMMARY:CARITAS - St Joseph's Saturday Club
DESCRIPTION:Monthly outreach meeting on 3rd Saturday of each month providing an inclusive space for people with Intellectual disabilities\, their families and friends. All welcome. \n 
URL:https://stmonica.co.uk/event/caritas-st-josephs-saturday-club-2/2024-12-21/
LOCATION:Newman Room\, 1 Stonard Road\, Palmers Green\, London\, N13 4DJ\, United Kingdom
CATEGORIES:Outreach
ORGANIZER;CN="Parish Office":MAILTO:palmersgreen@rcdow.org.uk
END:VEVENT
BEGIN:VEVENT
DTSTART;TZID=Europe/London:20241215T160000
DTEND;TZID=Europe/London:20241215T170000
DTSTAMP:20260425T231507
CREATED:20241117T080404Z
LAST-MODIFIED:20250222T163109Z
UID:10000021-1734278400-1734282000@stmonica.co.uk
SUMMARY:Parish Community Tea
DESCRIPTION:Originally\, set up as a CARITAS initiative called ‘Contact the elderly’ in the parish. \nOn the third Sunday of Each month Tea is served in the Newman Room with sandwiches and cake for members of the parish to socialise. \nSpeak with Sister Joyce if you wish to attend.
URL:https://stmonica.co.uk/event/caritas-community-tea/2024-12-15/
LOCATION:Newman Room\, 1 Stonard Road\, Palmers Green\, London\, N13 4DJ\, United Kingdom
CATEGORIES:Outreach,Social
END:VEVENT
BEGIN:VEVENT
DTSTART;TZID=Europe/London:20241213T193000
DTEND;TZID=Europe/London:20241213T213000
DTSTAMP:20260425T231507
CREATED:20241130T000733Z
LAST-MODIFIED:20241130T000733Z
UID:10000107-1734118200-1734125400@stmonica.co.uk
SUMMARY:Young Adults (18-35 yrs) Deanery Gathering
DESCRIPTION:Young Adults (18-35 years of age) are invited to an Enfield Deanery gathering. \nThis month we are at Our Lady of Lourdes Parish\, New Southgate N11 1AA. \nThere will be Worship music\, speaker & Adoration followed by social + Christmas party with games & food. \nSpeak with Anna McMullen if you wish to attend.
URL:https://stmonica.co.uk/event/young-adults-18-35-yrs-deanery-gathering/
LOCATION:Our Lady of Lourdes\, New Southgate\, Bowes Road\, Southgate\, London\, N11 1AA\, United Kingdom
CATEGORIES:Catechetics,Deanery Youth,Outreach,Prayer,Social
ORGANIZER;CN="Anna McMullen":MAILTO:annamcmullen@rcdow.org.uk
END:VEVENT
BEGIN:VEVENT
DTSTART;TZID=Europe/London:20241117T160000
DTEND;TZID=Europe/London:20241117T170000
DTSTAMP:20260425T231507
CREATED:20241117T080404Z
LAST-MODIFIED:20250222T163109Z
UID:10000020-1731859200-1731862800@stmonica.co.uk
SUMMARY:Parish Community Tea
DESCRIPTION:Originally\, set up as a CARITAS initiative called ‘Contact the elderly’ in the parish. \nOn the third Sunday of Each month Tea is served in the Newman Room with sandwiches and cake for members of the parish to socialise. \nSpeak with Sister Joyce if you wish to attend.
URL:https://stmonica.co.uk/event/caritas-community-tea/2024-11-17/
LOCATION:Newman Room\, 1 Stonard Road\, Palmers Green\, London\, N13 4DJ\, United Kingdom
CATEGORIES:Outreach,Social
END:VEVENT
BEGIN:VEVENT
DTSTART;TZID=Europe/London:20241116T150000
DTEND;TZID=Europe/London:20241116T170000
DTSTAMP:20260425T231507
CREATED:20241205T101542Z
LAST-MODIFIED:20241205T101542Z
UID:10000017-1731769200-1731776400@stmonica.co.uk
SUMMARY:CARITAS - St Joseph's Saturday Club
DESCRIPTION:Monthly outreach meeting on 3rd Saturday of each month providing an inclusive space for people with Intellectual disabilities\, their families and friends. All welcome. \n 
URL:https://stmonica.co.uk/event/caritas-st-josephs-saturday-club-2/2024-11-16/
LOCATION:Newman Room\, 1 Stonard Road\, Palmers Green\, London\, N13 4DJ\, United Kingdom
CATEGORIES:Outreach
ORGANIZER;CN="Parish Office":MAILTO:palmersgreen@rcdow.org.uk
END:VEVENT
BEGIN:VEVENT
DTSTART;TZID=Europe/London:20241116T150000
DTEND;TZID=Europe/London:20241116T170000
DTSTAMP:20260425T231507
CREATED:20241108T171434Z
LAST-MODIFIED:20241108T171434Z
UID:10000018-1731769200-1731776400@stmonica.co.uk
SUMMARY:CARITAS St Joseph's - Saturday Club
DESCRIPTION:Inclusive space for people with Intellectual disabilities\, their families and friends.\nMeets every 3rd Satuday of the month here at St Monica’s\, Palmers Green.
URL:https://stmonica.co.uk/event/caritas-st-josephs-saturday-club/
LOCATION:Newman Room\, 1 Stonard Road\, Palmers Green\, London\, N13 4DJ\, United Kingdom
CATEGORIES:Outreach
ORGANIZER;CN="Parish Office":MAILTO:palmersgreen@rcdow.org.uk
END:VEVENT
END:VCALENDAR