BEGIN:VCALENDAR
VERSION:2.0
PRODID:-//St Monica&#039;s, Palmers Green - ECPv6.15.8//NONSGML v1.0//EN
CALSCALE:GREGORIAN
METHOD:PUBLISH
X-ORIGINAL-URL:https://stmonica.co.uk
X-WR-CALDESC:Events for St Monica&#039;s, Palmers Green
REFRESH-INTERVAL;VALUE=DURATION:PT1H
X-Robots-Tag:noindex
X-PUBLISHED-TTL:PT1H
BEGIN:VTIMEZONE
TZID:Europe/London
BEGIN:DAYLIGHT
TZOFFSETFROM:+0000
TZOFFSETTO:+0100
TZNAME:BST
DTSTART:20230326T010000
END:DAYLIGHT
BEGIN:STANDARD
TZOFFSETFROM:+0100
TZOFFSETTO:+0000
TZNAME:GMT
DTSTART:20231029T010000
END:STANDARD
BEGIN:DAYLIGHT
TZOFFSETFROM:+0000
TZOFFSETTO:+0100
TZNAME:BST
DTSTART:20240331T010000
END:DAYLIGHT
BEGIN:STANDARD
TZOFFSETFROM:+0100
TZOFFSETTO:+0000
TZNAME:GMT
DTSTART:20241027T010000
END:STANDARD
BEGIN:DAYLIGHT
TZOFFSETFROM:+0000
TZOFFSETTO:+0100
TZNAME:BST
DTSTART:20250330T010000
END:DAYLIGHT
BEGIN:STANDARD
TZOFFSETFROM:+0100
TZOFFSETTO:+0000
TZNAME:GMT
DTSTART:20251026T010000
END:STANDARD
END:VTIMEZONE
BEGIN:VEVENT
DTSTART;TZID=Europe/London:20241222T131500
DTEND;TZID=Europe/London:20241222T143000
DTSTAMP:20260426T044903
CREATED:20241213T174248Z
LAST-MODIFIED:20241213T174649Z
UID:10000144-1734873300-1734877800@stmonica.co.uk
SUMMARY:Christmas Music rehearsal
DESCRIPTION:Music rehearsal for Midnight mass and Christmas day 12noon mass is at 1:15pm in the Small Hall on Sunday 15th December and Sunday 22nd December 2024. \nAll are welcome to join us. \nThe Small Hall is located up the external staircase behind the Parish Hall along from the Newman Room.
URL:https://stmonica.co.uk/event/christmas-music-rehearsal/2024-12-22/
LOCATION:St Monica’s Small Hall.\, 1 Stonard Road\, London\, N13 4DJ\, United Kingdom
CATEGORIES:Music
END:VEVENT
BEGIN:VEVENT
DTSTART;TZID=Europe/London:20241221T150000
DTEND;TZID=Europe/London:20241221T190000
DTSTAMP:20260426T044903
CREATED:20241205T101002Z
LAST-MODIFIED:20241205T101002Z
UID:10000109-1734793200-1734807600@stmonica.co.uk
SUMMARY:The Children's  Choir
DESCRIPTION:Our Children’s choir will next sing at the 6pm Vigil Mass on Saturday 21st December 2024. \nThere will be a rehearsal from 3pm. \nIf your child is interested in joining\, please contact the parish office.
URL:https://stmonica.co.uk/event/the-childrens-choir/
LOCATION:St Monica’s Church\, Palmers Green\, 1 Stonard Road\, London\, N13 4DJ\, United Kingdom
CATEGORIES:Children's choir,Mass,Music
ORGANIZER;CN="Parish Office":MAILTO:palmersgreen@rcdow.org.uk
END:VEVENT
BEGIN:VEVENT
DTSTART;TZID=Europe/London:20241215T131500
DTEND;TZID=Europe/London:20241215T143000
DTSTAMP:20260426T044903
CREATED:20241213T174248Z
LAST-MODIFIED:20241213T174649Z
UID:10000143-1734268500-1734273000@stmonica.co.uk
SUMMARY:Christmas Music rehearsal
DESCRIPTION:Music rehearsal for Midnight mass and Christmas day 12noon mass is at 1:15pm in the Small Hall on Sunday 15th December and Sunday 22nd December 2024. \nAll are welcome to join us. \nThe Small Hall is located up the external staircase behind the Parish Hall along from the Newman Room.
URL:https://stmonica.co.uk/event/christmas-music-rehearsal/2024-12-15/
LOCATION:St Monica’s Small Hall.\, 1 Stonard Road\, London\, N13 4DJ\, United Kingdom
CATEGORIES:Music
END:VEVENT
END:VCALENDAR