BEGIN:VCALENDAR
VERSION:2.0
PRODID:-//St Monica&#039;s, Palmers Green - ECPv6.15.8//NONSGML v1.0//EN
CALSCALE:GREGORIAN
METHOD:PUBLISH
X-WR-CALNAME:St Monica&#039;s, Palmers Green
X-ORIGINAL-URL:https://stmonica.co.uk
X-WR-CALDESC:Events for St Monica&#039;s, Palmers Green
REFRESH-INTERVAL;VALUE=DURATION:PT1H
X-Robots-Tag:noindex
X-PUBLISHED-TTL:PT1H
BEGIN:VTIMEZONE
TZID:Europe/London
BEGIN:DAYLIGHT
TZOFFSETFROM:+0000
TZOFFSETTO:+0100
TZNAME:BST
DTSTART:20230326T010000
END:DAYLIGHT
BEGIN:STANDARD
TZOFFSETFROM:+0100
TZOFFSETTO:+0000
TZNAME:GMT
DTSTART:20231029T010000
END:STANDARD
BEGIN:DAYLIGHT
TZOFFSETFROM:+0000
TZOFFSETTO:+0100
TZNAME:BST
DTSTART:20240331T010000
END:DAYLIGHT
BEGIN:STANDARD
TZOFFSETFROM:+0100
TZOFFSETTO:+0000
TZNAME:GMT
DTSTART:20241027T010000
END:STANDARD
BEGIN:DAYLIGHT
TZOFFSETFROM:+0000
TZOFFSETTO:+0100
TZNAME:BST
DTSTART:20250330T010000
END:DAYLIGHT
BEGIN:STANDARD
TZOFFSETFROM:+0100
TZOFFSETTO:+0000
TZNAME:GMT
DTSTART:20251026T010000
END:STANDARD
BEGIN:DAYLIGHT
TZOFFSETFROM:+0000
TZOFFSETTO:+0100
TZNAME:BST
DTSTART:20260329T010000
END:DAYLIGHT
BEGIN:STANDARD
TZOFFSETFROM:+0100
TZOFFSETTO:+0000
TZNAME:GMT
DTSTART:20261025T010000
END:STANDARD
END:VTIMEZONE
BEGIN:VEVENT
DTSTART;TZID=Europe/London:20251225T000000
DTEND;TZID=Europe/London:20251225T235959
DTSTAMP:20260425T211456
CREATED:20241122T122559Z
LAST-MODIFIED:20250222T130100Z
UID:10000097-1766620800-1766707199@stmonica.co.uk
SUMMARY:+ THE NATIVITY OF THE LORD: Christmas Day
DESCRIPTION:Mass will be celebrated: \n7:45am ‘Mass at Dawn‘ \n9:00am ‘Mass during the Day’ with hymns \n10.30am Mass for Families with young children (with music) \n12.00 noon Mass during the Day (Sung) \n  \nChurch will close after the 12noon Mass. Please see Advent and Christmas 2024 pdf for other services during Chirstmas tide.
URL:https://stmonica.co.uk/event/the-nativity-of-the-lord-christmas-day/2025-12-25/
CATEGORIES:Christmas,Liturgical,Mass
END:VEVENT
BEGIN:VEVENT
DTSTART;TZID=Europe/London:20250815T000000
DTEND;TZID=Europe/London:20250815T235959
DTSTAMP:20260425T211456
CREATED:20241030T210943Z
LAST-MODIFIED:20241030T210943Z
UID:10000014-1755216000-1755302399@stmonica.co.uk
SUMMARY:Assumption of the Blessed Virgin Mary
DESCRIPTION:Solemnity and Holy Day of Obligation. \nSacrifice of the Mass will be celebrated at: \n7:00am \n9:30am \n7:30pm
URL:https://stmonica.co.uk/event/assumption-of-the-blessed-virgin-mary/
LOCATION:St Monica’s Church\, Palmers Green\, 1 Stonard Road\, London\, N13 4DJ\, United Kingdom
CATEGORIES:Mass
END:VEVENT
BEGIN:VEVENT
DTSTART;TZID=Europe/London:20250629T000000
DTEND;TZID=Europe/London:20250629T235959
DTSTAMP:20260425T211456
CREATED:20241030T210706Z
LAST-MODIFIED:20241205T213928Z
UID:10000013-1751155200-1751241599@stmonica.co.uk
SUMMARY:Ss Peter and Paul
DESCRIPTION:Solemnity and Holy Day of Obligation. \nSacrifice of the Mass will be offered at: \n7:45 am \n9:00 am \n10:30 am \n12:00 noon
URL:https://stmonica.co.uk/event/ss-peter-and-paul/
CATEGORIES:Liturgical,Mass
END:VEVENT
BEGIN:VEVENT
DTSTART;TZID=Europe/London:20250622T000000
DTEND;TZID=Europe/London:20250622T235959
DTSTAMP:20260425T211456
CREATED:20241030T210432Z
LAST-MODIFIED:20241030T210432Z
UID:10000012-1750550400-1750636799@stmonica.co.uk
SUMMARY:The Body and Blood of Christ (Corpus Christi)
DESCRIPTION:Solemnity – Holy Day of Obligation. \nThe Sacrifice of the Mass will be offered at: \n7:45am \n9:00am \n10:30am \n12:00noon
URL:https://stmonica.co.uk/event/the-body-and-blood-of-christ-corpus-christi/
LOCATION:St Monica’s Church\, Palmers Green\, 1 Stonard Road\, London\, N13 4DJ\, United Kingdom
CATEGORIES:Mass
ORGANIZER;CN="Parish Office":MAILTO:palmersgreen@rcdow.org.uk
END:VEVENT
BEGIN:VEVENT
DTSTART;TZID=Europe/London:20250529T000000
DTEND;TZID=Europe/London:20250529T235959
DTSTAMP:20260425T211456
CREATED:20241030T210058Z
LAST-MODIFIED:20241030T210058Z
UID:10000011-1748476800-1748563199@stmonica.co.uk
SUMMARY:The Ascension of the Lord
DESCRIPTION:Solemnity – Holy Day of Obligation \nMass will be celebrated at: \n7:00am \n9:30am \n7:30pm
URL:https://stmonica.co.uk/event/the-ascension-of-the-lord/
LOCATION:St Monica’s Church\, Palmers Green\, 1 Stonard Road\, London\, N13 4DJ\, United Kingdom
CATEGORIES:Mass
ORGANIZER;CN="Parish Office":MAILTO:palmersgreen@rcdow.org.uk
END:VEVENT
BEGIN:VEVENT
DTSTART;TZID=Europe/London:20250510T180000
DTEND;TZID=Europe/London:20250510T190000
DTSTAMP:20260425T211456
CREATED:20241205T102927Z
LAST-MODIFIED:20241205T102927Z
UID:10000141-1746900000-1746903600@stmonica.co.uk
SUMMARY:Mass for New Catholics
DESCRIPTION:A wonderful celebration of those who have been received into the faith through the RCIA programme attend a mass at Westminster Cathedral with other members of the diocese.
URL:https://stmonica.co.uk/event/mass-for-new-catholics/
LOCATION:Westminster Cathedral\, Ambrosden Avenue\, City of Westminster\, SW1P\, United Kingdom
CATEGORIES:Catechetics,Mass,RCIA
ORGANIZER;CN="Parish Office":MAILTO:palmersgreen@rcdow.org.uk
END:VEVENT
BEGIN:VEVENT
DTSTART;TZID=Europe/London:20250425T190000
DTEND;TZID=Europe/London:20250425T200000
DTSTAMP:20260425T211456
CREATED:20250421T104540Z
LAST-MODIFIED:20250421T104540Z
UID:10000665-1745607600-1745611200@stmonica.co.uk
SUMMARY:Requiem Mass for Pope Francis
DESCRIPTION:There will be a Requiem Mass celebrated  for the repose of the soul of Pope Francis on Friday 25th April 2025 at 7pm here in St Monica’s.
URL:https://stmonica.co.uk/event/requiem-mass-for-pope-francis/
LOCATION:St Monica’s Church\, Palmers Green\, 1 Stonard Road\, London\, N13 4DJ\, United Kingdom
CATEGORIES:Mass
ORGANIZER;CN="Parish Office":MAILTO:palmersgreen@rcdow.org.uk
END:VEVENT
BEGIN:VEVENT
DTSTART;TZID=Europe/London:20250305T000000
DTEND;TZID=Europe/London:20250305T235959
DTSTAMP:20260425T211456
CREATED:20241030T204730Z
LAST-MODIFIED:20250222T125939Z
UID:10000007-1741132800-1741219199@stmonica.co.uk
SUMMARY:Ash Wednesday
DESCRIPTION:Mass with the imposition of Ashes \n7:00am \n9:30am followed by Rosary and Stations of the Cross let by the Parish Common Home Group. \n7:30pm
URL:https://stmonica.co.uk/event/ash-wednesday/
LOCATION:St Monica’s Church\, Palmers Green\, 1 Stonard Road\, London\, N13 4DJ\, United Kingdom
CATEGORIES:Mass
ORGANIZER;CN="Parish Office":MAILTO:palmersgreen@rcdow.org.uk
END:VEVENT
BEGIN:VEVENT
DTSTART;TZID=Europe/London:20241225T000000
DTEND;TZID=Europe/London:20241225T235959
DTSTAMP:20260425T211456
CREATED:20241122T122559Z
LAST-MODIFIED:20250222T130100Z
UID:10000096-1735084800-1735171199@stmonica.co.uk
SUMMARY:+ THE NATIVITY OF THE LORD: Christmas Day
DESCRIPTION:Mass will be celebrated: \n7:45am ‘Mass at Dawn‘ \n9:00am ‘Mass during the Day’ with hymns \n10.30am Mass for Families with young children (with music) \n12.00 noon Mass during the Day (Sung) \n  \nChurch will close after the 12noon Mass. Please see Advent and Christmas 2024 pdf for other services during Chirstmas tide.
URL:https://stmonica.co.uk/event/the-nativity-of-the-lord-christmas-day/2024-12-25/
CATEGORIES:Christmas,Liturgical,Mass
END:VEVENT
BEGIN:VEVENT
DTSTART;TZID=Europe/London:20241224T000000
DTEND;TZID=Europe/London:20241224T235959
DTSTAMP:20260425T211456
CREATED:20241122T141950Z
LAST-MODIFIED:20241213T175227Z
UID:10000101-1734998400-1735084799@stmonica.co.uk
SUMMARY:+ THE NATIVITY OF THE LORD - Christmas Eve
DESCRIPTION:5.30pm Vigil Mass for families with young children \n7.30pm Vigil Mass for people who are not able to get to Mass on Christmas Day. \n11.30pm Candle-lit Vigil of Readings and Midnight Mass please be seated by 11:20pm \n 
URL:https://stmonica.co.uk/event/the-nativity-of-the-lord-christmas-eve/
CATEGORIES:Liturgical,Mass
END:VEVENT
BEGIN:VEVENT
DTSTART;TZID=Europe/London:20241221T150000
DTEND;TZID=Europe/London:20241221T190000
DTSTAMP:20260425T211456
CREATED:20241205T101002Z
LAST-MODIFIED:20241205T101002Z
UID:10000109-1734793200-1734807600@stmonica.co.uk
SUMMARY:The Children's  Choir
DESCRIPTION:Our Children’s choir will next sing at the 6pm Vigil Mass on Saturday 21st December 2024. \nThere will be a rehearsal from 3pm. \nIf your child is interested in joining\, please contact the parish office.
URL:https://stmonica.co.uk/event/the-childrens-choir/
LOCATION:St Monica’s Church\, Palmers Green\, 1 Stonard Road\, London\, N13 4DJ\, United Kingdom
CATEGORIES:Children's choir,Mass,Music
ORGANIZER;CN="Parish Office":MAILTO:palmersgreen@rcdow.org.uk
END:VEVENT
BEGIN:VEVENT
DTSTART;TZID=Europe/London:20241202T100000
DTEND;TZID=Europe/London:20241202T140000
DTSTAMP:20260425T211456
CREATED:20241129T235704Z
LAST-MODIFIED:20241129T235704Z
UID:10000106-1733133600-1733148000@stmonica.co.uk
SUMMARY:Booking of Mass Intentions for January
DESCRIPTION:Mass intentions for January 2025 may be booked on Monday 2nd December 2024 from 10am until 2pm at the Parish Office. \nPlease only book one and an intention for one mass during the first week; extra Masses can be booked from 9th December. \nThank you. \n  \nNoreen \nParish Secretary
URL:https://stmonica.co.uk/event/booking-of-mass-intentions-for-january/
LOCATION:St Monica’s Church\, Palmers Green\, 1 Stonard Road\, London\, N13 4DJ\, United Kingdom
CATEGORIES:Mass
ORGANIZER;CN="Parish Office":MAILTO:palmersgreen@rcdow.org.uk
END:VEVENT
BEGIN:VEVENT
DTSTART;TZID=Europe/London:20241115T193000
DTEND;TZID=Europe/London:20241115T203000
DTSTAMP:20260425T211456
CREATED:20241029T181329Z
LAST-MODIFIED:20241029T181329Z
UID:10000001-1731699000-1731702600@stmonica.co.uk
SUMMARY:Bereavement Mass
DESCRIPTION:Bereavement Mass prepared especially for the bereaved of the past year is on Friday 15th November at 7.30pm. All welcome as we remember all our loved ones who have died. Please let Sr Joyce know of names of people you wish to remember.
URL:https://stmonica.co.uk/event/bereavement-mass/
LOCATION:St Monica’s Church\, Palmers Green\, 1 Stonard Road\, London\, N13 4DJ\, United Kingdom
CATEGORIES:Mass
ORGANIZER;CN="Sister Joyce":MAILTO:joycedionne@rcdow.org.uk
END:VEVENT
BEGIN:VEVENT
DTSTART;TZID=Europe/London:20241101T000000
DTEND;TZID=Europe/London:20241101T235959
DTSTAMP:20260425T211456
CREATED:20241029T205540Z
LAST-MODIFIED:20241029T222053Z
UID:10000003-1730419200-1730505599@stmonica.co.uk
SUMMARY:All Saints Day
DESCRIPTION:Holy Day of Obligation \nSacrifice of the Mass will be offered at: \n\n7.00am\n9:30am\n7:30pm.\n\n 
URL:https://stmonica.co.uk/event/all-saints-day/
LOCATION:St Monica’s Church\, Palmers Green\, 1 Stonard Road\, London\, N13 4DJ\, United Kingdom
CATEGORIES:Mass
ORGANIZER;CN="Parish Office":MAILTO:palmersgreen@rcdow.org.uk
END:VEVENT
END:VCALENDAR