BEGIN:VCALENDAR
VERSION:2.0
PRODID:-//St Monica&#039;s, Palmers Green - ECPv6.15.8//NONSGML v1.0//EN
CALSCALE:GREGORIAN
METHOD:PUBLISH
X-ORIGINAL-URL:https://stmonica.co.uk
X-WR-CALDESC:Events for St Monica&#039;s, Palmers Green
REFRESH-INTERVAL;VALUE=DURATION:PT1H
X-Robots-Tag:noindex
X-PUBLISHED-TTL:PT1H
BEGIN:VTIMEZONE
TZID:Europe/London
BEGIN:DAYLIGHT
TZOFFSETFROM:+0000
TZOFFSETTO:+0100
TZNAME:BST
DTSTART:20230326T010000
END:DAYLIGHT
BEGIN:STANDARD
TZOFFSETFROM:+0100
TZOFFSETTO:+0000
TZNAME:GMT
DTSTART:20231029T010000
END:STANDARD
BEGIN:DAYLIGHT
TZOFFSETFROM:+0000
TZOFFSETTO:+0100
TZNAME:BST
DTSTART:20240331T010000
END:DAYLIGHT
BEGIN:STANDARD
TZOFFSETFROM:+0100
TZOFFSETTO:+0000
TZNAME:GMT
DTSTART:20241027T010000
END:STANDARD
BEGIN:DAYLIGHT
TZOFFSETFROM:+0000
TZOFFSETTO:+0100
TZNAME:BST
DTSTART:20250330T010000
END:DAYLIGHT
BEGIN:STANDARD
TZOFFSETFROM:+0100
TZOFFSETTO:+0000
TZNAME:GMT
DTSTART:20251026T010000
END:STANDARD
BEGIN:DAYLIGHT
TZOFFSETFROM:+0000
TZOFFSETTO:+0100
TZNAME:BST
DTSTART:20260329T010000
END:DAYLIGHT
BEGIN:STANDARD
TZOFFSETFROM:+0100
TZOFFSETTO:+0000
TZNAME:GMT
DTSTART:20261025T010000
END:STANDARD
END:VTIMEZONE
BEGIN:VEVENT
DTSTART;TZID=Europe/London:20250311T190000
DTEND;TZID=Europe/London:20250311T203000
DTSTAMP:20260426T045300
CREATED:20250222T162509Z
LAST-MODIFIED:20250222T162525Z
UID:10000658-1741719600-1741725000@stmonica.co.uk
SUMMARY:Churches Together Launch Lent Event
DESCRIPTION:This is an Eccumenical Event being run by Churches Together. \nBeside Bethesda \nReflections from Rev Julie Coleman & Rev Jim Gascoigne\, plus opportunities to be prayed with and be anointed. \nLight refreshments provided afterwards.
URL:https://stmonica.co.uk/event/churches-together-launch-lent-event/
LOCATION:Winchmore Hill United Reformed Church\, 77 Compton Rd\, London\, N21 3NU\, United Kingdom
CATEGORIES:Ecumenical Outreach
ORGANIZER;CN="Parish Office":MAILTO:palmersgreen@rcdow.org.uk
END:VEVENT
BEGIN:VEVENT
DTSTART;TZID=Europe/London:20250119T180000
DTEND;TZID=Europe/London:20250119T190000
DTSTAMP:20260426T045300
CREATED:20241213T173149Z
LAST-MODIFIED:20250222T130013Z
UID:10000142-1737309600-1737313200@stmonica.co.uk
SUMMARY:Churches Together - 'Songs of Praise'
DESCRIPTION:A service of Songs and Praise is being organised by St Paul’s  Winchmore Hill for Christian Unity Week.
URL:https://stmonica.co.uk/event/churches-together-songs-of-praise/
LOCATION:St Paul’s Church\, Church Hill\, Winchmore Hill\, N21 1JA\, Church Hill\, London\, N21 1JA\, United Kingdom
CATEGORIES:Ecumenical Outreach,Outreach
ORGANIZER;CN="Parish Office":MAILTO:palmersgreen@rcdow.org.uk
END:VEVENT
BEGIN:VEVENT
DTSTART;TZID=Europe/London:20241126T103000
DTEND;TZID=Europe/London:20241126T113000
DTSTAMP:20260426T045300
CREATED:20241122T114520Z
LAST-MODIFIED:20241122T114520Z
UID:10000080-1732617000-1732620600@stmonica.co.uk
SUMMARY:Churches Together Prayer Meeting
DESCRIPTION:Ecumenical Prayer meeting by Zoom \nhttps://uso4web.zoom.us/just/74680204904?pwd=TjJhQnBIYVVuUzNRY3ZXQTJ6MHEzQT09 \nMeeting ID: 746 8020 4904 \nPasscode: 8zq1F7
URL:https://stmonica.co.uk/event/churches-together-prayer-meeting/
CATEGORIES:Ecumenical Outreach,Prayer
END:VEVENT
END:VCALENDAR