BEGIN:VCALENDAR
VERSION:2.0
PRODID:-//St Monica&#039;s, Palmers Green - ECPv6.15.8//NONSGML v1.0//EN
CALSCALE:GREGORIAN
METHOD:PUBLISH
X-ORIGINAL-URL:https://stmonica.co.uk
X-WR-CALDESC:Events for St Monica&#039;s, Palmers Green
REFRESH-INTERVAL;VALUE=DURATION:PT1H
X-Robots-Tag:noindex
X-PUBLISHED-TTL:PT1H
BEGIN:VTIMEZONE
TZID:Europe/London
BEGIN:DAYLIGHT
TZOFFSETFROM:+0000
TZOFFSETTO:+0100
TZNAME:BST
DTSTART:20230326T010000
END:DAYLIGHT
BEGIN:STANDARD
TZOFFSETFROM:+0100
TZOFFSETTO:+0000
TZNAME:GMT
DTSTART:20231029T010000
END:STANDARD
BEGIN:DAYLIGHT
TZOFFSETFROM:+0000
TZOFFSETTO:+0100
TZNAME:BST
DTSTART:20240331T010000
END:DAYLIGHT
BEGIN:STANDARD
TZOFFSETFROM:+0100
TZOFFSETTO:+0000
TZNAME:GMT
DTSTART:20241027T010000
END:STANDARD
BEGIN:DAYLIGHT
TZOFFSETFROM:+0000
TZOFFSETTO:+0100
TZNAME:BST
DTSTART:20250330T010000
END:DAYLIGHT
BEGIN:STANDARD
TZOFFSETFROM:+0100
TZOFFSETTO:+0000
TZNAME:GMT
DTSTART:20251026T010000
END:STANDARD
BEGIN:DAYLIGHT
TZOFFSETFROM:+0000
TZOFFSETTO:+0100
TZNAME:BST
DTSTART:20260329T010000
END:DAYLIGHT
BEGIN:STANDARD
TZOFFSETFROM:+0100
TZOFFSETTO:+0000
TZNAME:GMT
DTSTART:20261025T010000
END:STANDARD
END:VTIMEZONE
BEGIN:VEVENT
DTSTART;TZID=Europe/London:20250224T193000
DTEND;TZID=Europe/London:20250224T210000
DTSTAMP:20260426T025218
CREATED:20241205T102509Z
LAST-MODIFIED:20250421T104708Z
UID:10000127-1740425400-1740430800@stmonica.co.uk
SUMMARY:RCIA Meeting
DESCRIPTION:Weekly Catechetical meeting for those who are exploring the Catholic Faith and what it means to be a Christian. \nPlease speak to Fr Mehall if you want to know more. \n 
URL:https://stmonica.co.uk/event/rcia-meeting/2025-02-24/
CATEGORIES:Catechetics
END:VEVENT
BEGIN:VEVENT
DTSTART;TZID=Europe/London:20250223T113000
DTEND;TZID=Europe/London:20250223T130000
DTSTAMP:20260426T025218
CREATED:20241122T120800Z
LAST-MODIFIED:20241122T121015Z
UID:10000087-1740310200-1740315600@stmonica.co.uk
SUMMARY:Young Adults (18-35) - Live life to the full
DESCRIPTION:Meeting up after the 10:30am Mass (Newman Room). \nThis last Sunday of the Month meeting for Young Adults 18-35\, explore how to live life to the full as a disciple of Christ through community\, social action\, friendship\, reflection and the Holy Spirit. \nThere will be refreshments in the Large Hall.  So please come and join us.
URL:https://stmonica.co.uk/event/young-adults-18-35-live-life-to-the-full/2025-02-23/
LOCATION:Newman Room\, 1 Stonard Road\, Palmers Green\, London\, N13 4DJ\, United Kingdom
CATEGORIES:Catechetics
ORGANIZER;CN="Anna McMullen":MAILTO:annamcmullen@rcdow.org.uk
END:VEVENT
BEGIN:VEVENT
DTSTART;TZID=Europe/London:20250217T193000
DTEND;TZID=Europe/London:20250217T210000
DTSTAMP:20260426T025218
CREATED:20241205T102509Z
LAST-MODIFIED:20250421T104708Z
UID:10000126-1739820600-1739826000@stmonica.co.uk
SUMMARY:RCIA Meeting
DESCRIPTION:Weekly Catechetical meeting for those who are exploring the Catholic Faith and what it means to be a Christian. \nPlease speak to Fr Mehall if you want to know more. \n 
URL:https://stmonica.co.uk/event/rcia-meeting/2025-02-17/
CATEGORIES:Catechetics
END:VEVENT
BEGIN:VEVENT
DTSTART;TZID=Europe/London:20250210T193000
DTEND;TZID=Europe/London:20250210T210000
DTSTAMP:20260426T025218
CREATED:20241205T102509Z
LAST-MODIFIED:20250421T104708Z
UID:10000125-1739215800-1739221200@stmonica.co.uk
SUMMARY:RCIA Meeting
DESCRIPTION:Weekly Catechetical meeting for those who are exploring the Catholic Faith and what it means to be a Christian. \nPlease speak to Fr Mehall if you want to know more. \n 
URL:https://stmonica.co.uk/event/rcia-meeting/2025-02-10/
CATEGORIES:Catechetics
END:VEVENT
BEGIN:VEVENT
DTSTART;TZID=Europe/London:20250203T193000
DTEND;TZID=Europe/London:20250203T210000
DTSTAMP:20260426T025218
CREATED:20241205T102509Z
LAST-MODIFIED:20250421T104708Z
UID:10000124-1738611000-1738616400@stmonica.co.uk
SUMMARY:RCIA Meeting
DESCRIPTION:Weekly Catechetical meeting for those who are exploring the Catholic Faith and what it means to be a Christian. \nPlease speak to Fr Mehall if you want to know more. \n 
URL:https://stmonica.co.uk/event/rcia-meeting/2025-02-03/
CATEGORIES:Catechetics
END:VEVENT
BEGIN:VEVENT
DTSTART;TZID=Europe/London:20250127T193000
DTEND;TZID=Europe/London:20250127T210000
DTSTAMP:20260426T025218
CREATED:20241205T102509Z
LAST-MODIFIED:20250421T104708Z
UID:10000123-1738006200-1738011600@stmonica.co.uk
SUMMARY:RCIA Meeting
DESCRIPTION:Weekly Catechetical meeting for those who are exploring the Catholic Faith and what it means to be a Christian. \nPlease speak to Fr Mehall if you want to know more. \n 
URL:https://stmonica.co.uk/event/rcia-meeting/2025-01-27/
CATEGORIES:Catechetics
END:VEVENT
BEGIN:VEVENT
DTSTART;TZID=Europe/London:20250126T113000
DTEND;TZID=Europe/London:20250126T130000
DTSTAMP:20260426T025218
CREATED:20241122T120800Z
LAST-MODIFIED:20241122T121015Z
UID:10000086-1737891000-1737896400@stmonica.co.uk
SUMMARY:Young Adults (18-35) - Live life to the full
DESCRIPTION:Meeting up after the 10:30am Mass (Newman Room). \nThis last Sunday of the Month meeting for Young Adults 18-35\, explore how to live life to the full as a disciple of Christ through community\, social action\, friendship\, reflection and the Holy Spirit. \nThere will be refreshments in the Large Hall.  So please come and join us.
URL:https://stmonica.co.uk/event/young-adults-18-35-live-life-to-the-full/2025-01-26/
LOCATION:Newman Room\, 1 Stonard Road\, Palmers Green\, London\, N13 4DJ\, United Kingdom
CATEGORIES:Catechetics
ORGANIZER;CN="Anna McMullen":MAILTO:annamcmullen@rcdow.org.uk
END:VEVENT
BEGIN:VEVENT
DTSTART;TZID=Europe/London:20250120T193000
DTEND;TZID=Europe/London:20250120T210000
DTSTAMP:20260426T025218
CREATED:20241205T102509Z
LAST-MODIFIED:20250421T104708Z
UID:10000122-1737401400-1737406800@stmonica.co.uk
SUMMARY:RCIA Meeting
DESCRIPTION:Weekly Catechetical meeting for those who are exploring the Catholic Faith and what it means to be a Christian. \nPlease speak to Fr Mehall if you want to know more. \n 
URL:https://stmonica.co.uk/event/rcia-meeting/2025-01-20/
CATEGORIES:Catechetics
END:VEVENT
BEGIN:VEVENT
DTSTART;TZID=Europe/London:20250113T193000
DTEND;TZID=Europe/London:20250113T210000
DTSTAMP:20260426T025218
CREATED:20241205T102509Z
LAST-MODIFIED:20250421T104708Z
UID:10000121-1736796600-1736802000@stmonica.co.uk
SUMMARY:RCIA Meeting
DESCRIPTION:Weekly Catechetical meeting for those who are exploring the Catholic Faith and what it means to be a Christian. \nPlease speak to Fr Mehall if you want to know more. \n 
URL:https://stmonica.co.uk/event/rcia-meeting/2025-01-13/
CATEGORIES:Catechetics
END:VEVENT
BEGIN:VEVENT
DTSTART;TZID=Europe/London:20250106T193000
DTEND;TZID=Europe/London:20250106T210000
DTSTAMP:20260426T025218
CREATED:20241205T102509Z
LAST-MODIFIED:20250421T104708Z
UID:10000120-1736191800-1736197200@stmonica.co.uk
SUMMARY:RCIA Meeting
DESCRIPTION:Weekly Catechetical meeting for those who are exploring the Catholic Faith and what it means to be a Christian. \nPlease speak to Fr Mehall if you want to know more. \n 
URL:https://stmonica.co.uk/event/rcia-meeting/2025-01-06/
CATEGORIES:Catechetics
END:VEVENT
BEGIN:VEVENT
DTSTART;TZID=Europe/London:20241229T113000
DTEND;TZID=Europe/London:20241229T130000
DTSTAMP:20260426T025218
CREATED:20241122T120800Z
LAST-MODIFIED:20241122T121015Z
UID:10000092-1735471800-1735477200@stmonica.co.uk
SUMMARY:Young Adults (18-35) - Live life to the full
DESCRIPTION:Meeting up after the 10:30am Mass (Newman Room). \nThis last Sunday of the Month meeting for Young Adults 18-35\, explore how to live life to the full as a disciple of Christ through community\, social action\, friendship\, reflection and the Holy Spirit. \nThere will be refreshments in the Large Hall.  So please come and join us.
URL:https://stmonica.co.uk/event/young-adults-18-35-live-life-to-the-full/2024-12-29/
LOCATION:Newman Room\, 1 Stonard Road\, Palmers Green\, London\, N13 4DJ\, United Kingdom
CATEGORIES:Catechetics
ORGANIZER;CN="Anna McMullen":MAILTO:annamcmullen@rcdow.org.uk
END:VEVENT
BEGIN:VEVENT
DTSTART;TZID=Europe/London:20241216T193000
DTEND;TZID=Europe/London:20241216T210000
DTSTAMP:20260426T025218
CREATED:20241205T102509Z
LAST-MODIFIED:20250421T104708Z
UID:10000119-1734377400-1734382800@stmonica.co.uk
SUMMARY:RCIA Meeting
DESCRIPTION:Weekly Catechetical meeting for those who are exploring the Catholic Faith and what it means to be a Christian. \nPlease speak to Fr Mehall if you want to know more. \n 
URL:https://stmonica.co.uk/event/rcia-meeting/2024-12-16/
CATEGORIES:Catechetics
END:VEVENT
BEGIN:VEVENT
DTSTART;TZID=Europe/London:20241213T193000
DTEND;TZID=Europe/London:20241213T213000
DTSTAMP:20260426T025218
CREATED:20241130T000733Z
LAST-MODIFIED:20241130T000733Z
UID:10000107-1734118200-1734125400@stmonica.co.uk
SUMMARY:Young Adults (18-35 yrs) Deanery Gathering
DESCRIPTION:Young Adults (18-35 years of age) are invited to an Enfield Deanery gathering. \nThis month we are at Our Lady of Lourdes Parish\, New Southgate N11 1AA. \nThere will be Worship music\, speaker & Adoration followed by social + Christmas party with games & food. \nSpeak with Anna McMullen if you wish to attend.
URL:https://stmonica.co.uk/event/young-adults-18-35-yrs-deanery-gathering/
LOCATION:Our Lady of Lourdes\, New Southgate\, Bowes Road\, Southgate\, London\, N11 1AA\, United Kingdom
CATEGORIES:Catechetics,Deanery Youth,Outreach,Prayer,Social
ORGANIZER;CN="Anna McMullen":MAILTO:annamcmullen@rcdow.org.uk
END:VEVENT
BEGIN:VEVENT
DTSTART;TZID=Europe/London:20241209T193000
DTEND;TZID=Europe/London:20241209T210000
DTSTAMP:20260426T025218
CREATED:20241205T102509Z
LAST-MODIFIED:20250421T104708Z
UID:10000118-1733772600-1733778000@stmonica.co.uk
SUMMARY:RCIA Meeting
DESCRIPTION:Weekly Catechetical meeting for those who are exploring the Catholic Faith and what it means to be a Christian. \nPlease speak to Fr Mehall if you want to know more. \n 
URL:https://stmonica.co.uk/event/rcia-meeting/2024-12-09/
CATEGORIES:Catechetics
END:VEVENT
BEGIN:VEVENT
DTSTART;TZID=Europe/London:20241201T150000
DTEND;TZID=Europe/London:20241201T170000
DTSTAMP:20260426T025218
CREATED:20241029T202056Z
LAST-MODIFIED:20241108T172406Z
UID:10000002-1733065200-1733072400@stmonica.co.uk
SUMMARY:Baptism Preparation
DESCRIPTION:A session for new parents who are already known to the parish and who want to have their child(ren) baptised. Led by a catechist\, you will explore the sacrament of Baptism through discussion and Video content. Please contact the parish office for more details.
URL:https://stmonica.co.uk/event/baptism-preparation/
LOCATION:Newman Room\, 1 Stonard Road\, Palmers Green\, London\, N13 4DJ\, United Kingdom
CATEGORIES:Catechetics
ORGANIZER;CN="Parish Office":MAILTO:palmersgreen@rcdow.org.uk
END:VEVENT
BEGIN:VEVENT
DTSTART;TZID=Europe/London:20241124T113000
DTEND;TZID=Europe/London:20241124T130000
DTSTAMP:20260426T025218
CREATED:20241122T120800Z
LAST-MODIFIED:20241122T121015Z
UID:10000084-1732447800-1732453200@stmonica.co.uk
SUMMARY:Young Adults (18-35) - Live life to the full
DESCRIPTION:Meeting up after the 10:30am Mass (Newman Room). \nThis last Sunday of the Month meeting for Young Adults 18-35\, explore how to live life to the full as a disciple of Christ through community\, social action\, friendship\, reflection and the Holy Spirit. \nThere will be refreshments in the Large Hall.  So please come and join us.
URL:https://stmonica.co.uk/event/young-adults-18-35-live-life-to-the-full/2024-11-24/
LOCATION:Newman Room\, 1 Stonard Road\, Palmers Green\, London\, N13 4DJ\, United Kingdom
CATEGORIES:Catechetics
ORGANIZER;CN="Anna McMullen":MAILTO:annamcmullen@rcdow.org.uk
END:VEVENT
BEGIN:VEVENT
DTSTART;TZID=Europe/London:20241122T190000
DTEND;TZID=Europe/London:20241122T210000
DTSTAMP:20260426T025218
CREATED:20241116T151843Z
LAST-MODIFIED:20241116T151843Z
UID:10000019-1732302000-1732309200@stmonica.co.uk
SUMMARY:Youth SUMMIT - Enfield Deanery
DESCRIPTION:Hosted by the Diocese of Westminster Youth Ministry \nAged 14 – 17? \nWhy not join us for an evening of fun\, games\, and Adoration at St Monica’s Church. \nWhy not bring a friend. \nFood and drink will be provided. \nEnfield Deanery Summit
URL:https://stmonica.co.uk/event/youth-summit-enfield-deanery/
LOCATION:St Monica’s Large Parish Hall\, 521 Green Lanes\, Palmers Green\, London\, N13 4DH\, United Kingdom
CATEGORIES:Catechetics,Prayer,Social
ORGANIZER;CN="Anna McMullen":MAILTO:annamcmullan@rcdow.org.uk
GEO:51.62412° N;0.10283° W
X-APPLE-STRUCTURED-LOCATION;VALUE=URI;X-ADDRESS=St Monica’s Large Parish Hall 521 Green Lanes Palmers Green London N13 4DH United Kingdom;X-APPLE-RADIUS=500;X-TITLE=521 Green Lanes\, Palmers Green:geo:0.10283° W,51.62412° N
END:VEVENT
END:VCALENDAR